BEGIN:VCALENDAR
VERSION:2.0
PRODID:-//Teatro Palacio Valdés - Avilés - ECPv6.13.2.1//NONSGML v1.0//EN
CALSCALE:GREGORIAN
METHOD:PUBLISH
X-WR-CALNAME:Teatro Palacio Valdés - Avilés
X-ORIGINAL-URL:https://teatropalaciovaldes.es
X-WR-CALDESC:Eventos para Teatro Palacio Valdés - Avilés
REFRESH-INTERVAL;VALUE=DURATION:PT1H
X-Robots-Tag:noindex
X-PUBLISHED-TTL:PT1H
BEGIN:VTIMEZONE
TZID:Europe/Madrid
BEGIN:DAYLIGHT
TZOFFSETFROM:+0100
TZOFFSETTO:+0200
TZNAME:CEST
DTSTART:20230326T010000
END:DAYLIGHT
BEGIN:STANDARD
TZOFFSETFROM:+0200
TZOFFSETTO:+0100
TZNAME:CET
DTSTART:20231029T010000
END:STANDARD
END:VTIMEZONE
BEGIN:VEVENT
DTSTART;TZID=Europe/Madrid:20231129T201500
DTEND;TZID=Europe/Madrid:20231129T201500
DTSTAMP:20260424T210435
CREATED:20230901T092807Z
LAST-MODIFIED:20230901T092807Z
UID:5262-1701288900-1701288900@teatropalaciovaldes.es
SUMMARY:ADA BYRON: LA TEJEDORA DE NÚMEROS
DESCRIPTION:La Westia Producciones.Autor: César Luis Alonso.Director: Ernesto Arias.Con Ici Díaz\, Francisco Pardo\, Isabel Marcos y César Alonso. Rescate de la visionaria matemática\, Ada Lovelace\, una adelantada a su tiempo\, considerada la primera programadora de la historia y denominada por muchos como “la madre de la informática actual” 								\n				\n				\n				\n									\n					\n						\n						\n							\n									Comprar entradas
URL:https://teatropalaciovaldes.es/evento/ada-byron-la-tejedora-de-numeros/
CATEGORIES:Teatro
ATTACH;FMTTYPE=image/jpeg:https://teatropalaciovaldes.es/wp-content/uploads/2023/09/la-tejedora.jpg
END:VEVENT
END:VCALENDAR