BEGIN:VCALENDAR
VERSION:2.0
PRODID:-//Teatro Palacio Valdés - Avilés - ECPv6.13.2.1//NONSGML v1.0//EN
CALSCALE:GREGORIAN
METHOD:PUBLISH
X-WR-CALNAME:Teatro Palacio Valdés - Avilés
X-ORIGINAL-URL:https://teatropalaciovaldes.es
X-WR-CALDESC:Eventos para Teatro Palacio Valdés - Avilés
REFRESH-INTERVAL;VALUE=DURATION:PT1H
X-Robots-Tag:noindex
X-PUBLISHED-TTL:PT1H
BEGIN:VTIMEZONE
TZID:Europe/Madrid
BEGIN:DAYLIGHT
TZOFFSETFROM:+0100
TZOFFSETTO:+0200
TZNAME:CEST
DTSTART:20220327T010000
END:DAYLIGHT
BEGIN:STANDARD
TZOFFSETFROM:+0200
TZOFFSETTO:+0100
TZNAME:CET
DTSTART:20221030T010000
END:STANDARD
END:VTIMEZONE
BEGIN:VEVENT
DTSTART;TZID=Europe/Madrid:20220225T201500
DTEND;TZID=Europe/Madrid:20220225T220000
DTSTAMP:20260425T182054
CREATED:20211212T195146Z
LAST-MODIFIED:20220101T162639Z
UID:4032-1645820100-1645826400@teatropalaciovaldes.es
SUMMARY:ASESINOS TODOS
DESCRIPTION:ESCENAVILES \nTEATRO PALACIO VALDÉS \nFUNCIÓN FUERA DE ABONO \nDe Jordi Sánchez y Pep Anton Gómez \nDirección: Pep Anton Gómez \nCon Carlos Sobera\, Neus Asensi\, Elisa Matilla y Ángel Pardo \nLa sorprendente idea surgida en la cena de dos parejas pone en marcha un mecanismo infernal. Comedia en clave humorística sobre el despertar de la bestia que todos llevamos dentro.
URL:https://teatropalaciovaldes.es/evento/asesinos-todos/
CATEGORIES:Teatro
ATTACH;FMTTYPE=image/jpeg:https://teatropalaciovaldes.es/wp-content/uploads/2021/12/ASESINOS.jpg
END:VEVENT
END:VCALENDAR