BEGIN:VCALENDAR
VERSION:2.0
PRODID:-//Teatro Palacio Valdés - Avilés - ECPv6.13.2.1//NONSGML v1.0//EN
CALSCALE:GREGORIAN
METHOD:PUBLISH
X-WR-CALNAME:Teatro Palacio Valdés - Avilés
X-ORIGINAL-URL:https://teatropalaciovaldes.es
X-WR-CALDESC:Eventos para Teatro Palacio Valdés - Avilés
REFRESH-INTERVAL;VALUE=DURATION:PT1H
X-Robots-Tag:noindex
X-PUBLISHED-TTL:PT1H
BEGIN:VTIMEZONE
TZID:Europe/Madrid
BEGIN:DAYLIGHT
TZOFFSETFROM:+0100
TZOFFSETTO:+0200
TZNAME:CEST
DTSTART:20240331T010000
END:DAYLIGHT
BEGIN:STANDARD
TZOFFSETFROM:+0200
TZOFFSETTO:+0100
TZNAME:CET
DTSTART:20241027T010000
END:STANDARD
END:VTIMEZONE
BEGIN:VEVENT
DTSTART;TZID=Europe/Madrid:20240720T200000
DTEND;TZID=Europe/Madrid:20240720T200000
DTSTAMP:20260425T025614
CREATED:20240618T161156Z
LAST-MODIFIED:20240618T163548Z
UID:6145-1721505600-1721505600@teatropalaciovaldes.es
SUMMARY:AvilÉsMúsica
DESCRIPTION:Festival Internacional de Música de Cámara. Director artístico: Gabriel Ureña. Cuarteto No.2 en mi bemol mayor Op.87\, Antonín Dvorák. Kirill Trousov\, violín; Rumen Cvetkov\, viola; Gabriel Ureña\, cello; José Gallardo\, piano Pausa.Quinteto de cuerda en sol mayor Op.111\, Johannes Brahms. Jesús Reina\, violín; Anna Nilsen\, violín; Rumen Cvetkov\, viola; Aine Suzuki\, viola; Iván Sendetckii\, cello.Preludio y Scherzo para octeto de cuerda Op.11\, Dmitri Shostakovich. Liana Gourdjia\, violín; Kirill Trousov\, violín; Jesús Reina\, violín; Ana Nilsen\, violín; Rumen Cvetkov\, viola; Aine Suzuki\, viola; Iván Sendetckii\, cello; Gabriel Ureña\, cello  								\n				\n					\n		\n					\n		\n				\n						\n					\n			\n						\n				\n									\n					\n						\n						\n							\n									Comprar entradas
URL:https://teatropalaciovaldes.es/evento/avilesmusica-2/
CATEGORIES:Música
ATTACH;FMTTYPE=image/png:https://teatropalaciovaldes.es/wp-content/uploads/2024/06/ENTRADAS-04.png
END:VEVENT
END:VCALENDAR