BEGIN:VCALENDAR
VERSION:2.0
PRODID:-//Teatro Palacio Valdés - Avilés - ECPv6.13.2.1//NONSGML v1.0//EN
CALSCALE:GREGORIAN
METHOD:PUBLISH
X-WR-CALNAME:Teatro Palacio Valdés - Avilés
X-ORIGINAL-URL:https://teatropalaciovaldes.es
X-WR-CALDESC:Eventos para Teatro Palacio Valdés - Avilés
REFRESH-INTERVAL;VALUE=DURATION:PT1H
X-Robots-Tag:noindex
X-PUBLISHED-TTL:PT1H
BEGIN:VTIMEZONE
TZID:Europe/Madrid
BEGIN:DAYLIGHT
TZOFFSETFROM:+0100
TZOFFSETTO:+0200
TZNAME:CEST
DTSTART:20230326T010000
END:DAYLIGHT
BEGIN:STANDARD
TZOFFSETFROM:+0200
TZOFFSETTO:+0100
TZNAME:CET
DTSTART:20231029T010000
END:STANDARD
END:VTIMEZONE
BEGIN:VEVENT
DTSTART;TZID=Europe/Madrid:20230219T203000
DTEND;TZID=Europe/Madrid:20230219T203000
DTSTAMP:20260424T220953
CREATED:20230109T074222Z
LAST-MODIFIED:20230220T162051Z
UID:4980-1676838600-1676838600@teatropalaciovaldes.es
SUMMARY:Baile y Concurso de Disfraces
DESCRIPTION:A la venta las entradas para el Baile y Concurso de Disfraces del Antroxu en el Teatro Palacio Valdés.Con la platea convertida en una pista sin butacas\, Nerea Vázquez y Pedro Durán animarán la gala\, que contará con la ambientación de la música de la orquesta La Fórmula y el DJ Nacho Otero. Concurso de disfraces con premios tan interesantes como: Primer premio: un fin de semana para dos personas en las Casas Rurales El LLerón (Parque Natural de Redes\, Campo de Caso). Segundo premio: abono (2 personas) para el ciclo de teatro Escenavilés de abril a junio o a elegir\, un abono para dos personas para el Reguetón Beach Festival que se desarrollará en Avilés los días 1 y 2 de julio. Tercer premio: dos invitaciones para el concierto de Manu Carrasco el próximo 28 de julio en el Pabellón de la Magdalena. Un evento destinado a todas las edades (los menores deben venir acompañados de padres o tutores) donde el único requisito es acudir disfrazad@s y ganas de pasárselo bien en un marco único: el centenario Teatro Palacio Valdés. 								\n				\n					\n		\n					\n		\n				\n						\n					\n			\n						\n				\n									\n					\n						\n						\n							\n									Comprar entradas
URL:https://teatropalaciovaldes.es/evento/baile-y-concurso-de-disfraces/
CATEGORIES:En familia
ATTACH;FMTTYPE=image/jpeg:https://teatropalaciovaldes.es/wp-content/uploads/2023/02/carnaval-aviles-2023-teatro-palacio-valdes-lr.jpg
END:VEVENT
END:VCALENDAR