BEGIN:VCALENDAR
VERSION:2.0
PRODID:-//Teatro Palacio Valdés - Avilés - ECPv6.13.2.1//NONSGML v1.0//EN
CALSCALE:GREGORIAN
METHOD:PUBLISH
X-WR-CALNAME:Teatro Palacio Valdés - Avilés
X-ORIGINAL-URL:https://teatropalaciovaldes.es
X-WR-CALDESC:Eventos para Teatro Palacio Valdés - Avilés
REFRESH-INTERVAL;VALUE=DURATION:PT1H
X-Robots-Tag:noindex
X-PUBLISHED-TTL:PT1H
BEGIN:VTIMEZONE
TZID:Europe/Madrid
BEGIN:DAYLIGHT
TZOFFSETFROM:+0100
TZOFFSETTO:+0200
TZNAME:CEST
DTSTART:20240331T010000
END:DAYLIGHT
BEGIN:STANDARD
TZOFFSETFROM:+0200
TZOFFSETTO:+0100
TZNAME:CET
DTSTART:20241027T010000
END:STANDARD
END:VTIMEZONE
BEGIN:VEVENT
DTSTART;TZID=Europe/Madrid:20240531T203000
DTEND;TZID=Europe/Madrid:20240531T203000
DTSTAMP:20260425T003056
CREATED:20240417T125411Z
LAST-MODIFIED:20240528T100454Z
UID:5945-1717187400-1717187400@teatropalaciovaldes.es
SUMMARY:BROTHERS IN BAND
DESCRIPTION:The very best of Dire Straits Show. Reconocidos como el mayor espectáculo internacional homenaje a dIRE sTRAITS\, bROTHERS iN bAND llega a Avilés tras recorrer Holanda\, Portugal\, Alemania\, Francia\, Luxemburgo\, Andorra y España con su renovado The Very Best of dIRE sTRAITS\, donde repasa lo más destacado de la banda británica en un show de más de 2 horas con un set list que abarca desde sus inicios en 1977 hasta su disolución a principios de los años 90. Si la guitarra y voz de Mark Knopfler han sido fundamentales en dIRE sTRAITS lo mimo ocurre con Angelo Fumarola. Su voz\, su postura\, sus gestos\, su expresividad y su espectacular forma de tocar la guitarra se suman a una espectacular banda de reconocidos y apasionados músicos de primer nivel que interpretan y recrean con fidelidad y un altísimo nivel el espectacular legado musical de la banda de Mark Knopfler\, convirtiendo así a bROTHERS iN bAND en uno de los mejores espectáculos tributo actuales y con mayor recorrido en nuestro continente. ESPECTACULO NUMERADO								\n				\n					\n		\n					\n		\n				\n						\n					\n			\n						\n				\n									\n					\n						\n						\n							\n									Comprar entradas
URL:https://teatropalaciovaldes.es/evento/brothers-in-band/
CATEGORIES:Música
ATTACH;FMTTYPE=image/jpeg:https://teatropalaciovaldes.es/wp-content/uploads/2024/04/Brothers-in-bAND.jpg
END:VEVENT
END:VCALENDAR