BEGIN:VCALENDAR
VERSION:2.0
PRODID:-//Teatro Palacio Valdés - Avilés - ECPv6.13.2.1//NONSGML v1.0//EN
CALSCALE:GREGORIAN
METHOD:PUBLISH
X-WR-CALNAME:Teatro Palacio Valdés - Avilés
X-ORIGINAL-URL:https://teatropalaciovaldes.es
X-WR-CALDESC:Eventos para Teatro Palacio Valdés - Avilés
REFRESH-INTERVAL;VALUE=DURATION:PT1H
X-Robots-Tag:noindex
X-PUBLISHED-TTL:PT1H
BEGIN:VTIMEZONE
TZID:Europe/Madrid
BEGIN:DAYLIGHT
TZOFFSETFROM:+0100
TZOFFSETTO:+0200
TZNAME:CEST
DTSTART:20240331T010000
END:DAYLIGHT
BEGIN:STANDARD
TZOFFSETFROM:+0200
TZOFFSETTO:+0100
TZNAME:CET
DTSTART:20241027T010000
END:STANDARD
END:VTIMEZONE
BEGIN:VEVENT
DTSTART;TZID=Europe/Madrid:20240405T201500
DTEND;TZID=Europe/Madrid:20240405T201500
DTSTAMP:20260424T231250
CREATED:20240305T152423Z
LAST-MODIFIED:20240305T152646Z
UID:5786-1712348100-1712348100@teatropalaciovaldes.es
SUMMARY:CASTING LEAR
DESCRIPTION:De Andrea Jiménez.Dirección: Andrea Jiménez y Úrsula Martínez.Con Andrea Jiménez\, Juan Paños y Tatán R. Cunha como actor invitado. Cruce entre ficción y realidad\, teatro y performance en una irreverente adaptación de Shakespeare\, con la autora-directora dirigiendo cada noche a un actor distinto en el papel de Lear.   								\n				\n					\n		\n					\n		\n				\n						\n					\n			\n						\n				\n									\n					\n						\n						\n							\n									Comprar entradas
URL:https://teatropalaciovaldes.es/evento/casting-lear/
CATEGORIES:Estreno Absoluto,Teatro
ATTACH;FMTTYPE=image/jpeg:https://teatropalaciovaldes.es/wp-content/uploads/2024/03/CASTING-LEAR.jpg
END:VEVENT
END:VCALENDAR