BEGIN:VCALENDAR
VERSION:2.0
PRODID:-//Teatro Palacio Valdés - Avilés - ECPv6.13.2.1//NONSGML v1.0//EN
CALSCALE:GREGORIAN
METHOD:PUBLISH
X-WR-CALNAME:Teatro Palacio Valdés - Avilés
X-ORIGINAL-URL:https://teatropalaciovaldes.es
X-WR-CALDESC:Eventos para Teatro Palacio Valdés - Avilés
REFRESH-INTERVAL;VALUE=DURATION:PT1H
X-Robots-Tag:noindex
X-PUBLISHED-TTL:PT1H
BEGIN:VTIMEZONE
TZID:Europe/Madrid
BEGIN:DAYLIGHT
TZOFFSETFROM:+0100
TZOFFSETTO:+0200
TZNAME:CEST
DTSTART:20230326T010000
END:DAYLIGHT
BEGIN:STANDARD
TZOFFSETFROM:+0200
TZOFFSETTO:+0100
TZNAME:CET
DTSTART:20231029T010000
END:STANDARD
END:VTIMEZONE
BEGIN:VEVENT
DTSTART;TZID=Europe/Madrid:20230601T000000
DTEND;TZID=Europe/Madrid:20230604T000000
DTSTAMP:20260424T221020
CREATED:20230426T145416Z
LAST-MODIFIED:20230426T145754Z
UID:5078-1685577600-1685836800@teatropalaciovaldes.es
SUMMARY:CRUZ DE NAVAJAS\, El último Mecano
DESCRIPTION:El espectáculo\, visto por más de 300.000 personas\, y que ya ha pasado por las ciudades de Zaragoza\, Cuenca\, Barcelona\, Huelva\, Salamanca y Vigo entre otras\, continúa su gira por todo el territorio español\, apostando por Avilés en su recorrido por más de 20 ciudades previstas en este 2023. Pero\, ¿qué es Cruz de Navajas\, el último Mecano? es el mayor reconocimiento al grupo español más grande de nuestro patrimonio. Cruz de Navajas es un espectáculo musical de gran formato\, que supone\, además\, la creación de un nuevo géreno dentro del espectáculo musical. Un sorprendente y rompedor formato audiovisual\, donde se escuchan y recrean los grandes temas de Mecano\, interpretados cada uno de ellos con originales y asombrosas puestas en escena\, gracias a una avanzada tecnología\, y al talento y la sensibilidad más exquisita. Más de 30 canciones\, 25 artistas sobre el escenario: 8 voces grandiosas\, una extraordinaria banda de músicos en directo\, un espectacular cuerpo de baile\, y todo ello enmarcado en una impactante y magnífica escenografía de pantallas led con vídeos proyectados\, que transforman a cada momento todos y cada uno de los números\, para convertirlos en asombrosas piezas musicales. Cruz de Navajas es\, sin duda\, uno de los mejores espectáculos musicales de creación y producción íntegramente española\, representados en nuestro país. 								\n				\n				\n				\n									\n					\n						\n						\n							\n									Comprar entradas
URL:https://teatropalaciovaldes.es/evento/cruz-de-navajas-el-ultimo-mecano/
CATEGORIES:Música
ATTACH;FMTTYPE=image/jpeg:https://teatropalaciovaldes.es/wp-content/uploads/2023/04/CRUZ-DE-NAVAJAS-AVILES.jpg
END:VEVENT
END:VCALENDAR