BEGIN:VCALENDAR
VERSION:2.0
PRODID:-//Teatro Palacio Valdés - Avilés - ECPv6.13.2.1//NONSGML v1.0//EN
CALSCALE:GREGORIAN
METHOD:PUBLISH
X-WR-CALNAME:Teatro Palacio Valdés - Avilés
X-ORIGINAL-URL:https://teatropalaciovaldes.es
X-WR-CALDESC:Eventos para Teatro Palacio Valdés - Avilés
REFRESH-INTERVAL;VALUE=DURATION:PT1H
X-Robots-Tag:noindex
X-PUBLISHED-TTL:PT1H
BEGIN:VTIMEZONE
TZID:Europe/Madrid
BEGIN:DAYLIGHT
TZOFFSETFROM:+0100
TZOFFSETTO:+0200
TZNAME:CEST
DTSTART:20250330T010000
END:DAYLIGHT
BEGIN:STANDARD
TZOFFSETFROM:+0200
TZOFFSETTO:+0100
TZNAME:CET
DTSTART:20251026T010000
END:STANDARD
END:VTIMEZONE
BEGIN:VEVENT
DTSTART;TZID=Europe/Madrid:20250109T200000
DTEND;TZID=Europe/Madrid:20250109T200000
DTSTAMP:20260424T205747
CREATED:20241119T114248Z
LAST-MODIFIED:20241216T172006Z
UID:6408-1736452800-1736452800@teatropalaciovaldes.es
SUMMARY:DESDE LA LONA
DESCRIPTION:Teatro Estudio Gijón.Autoría: Mauricio Kartun.Dramaturgia y dirección: Miguel G. Expósito.Con Manuel Pizarro\, Martina Bueno\, Filiberto Blanco y Mariano Alfonso. \nAlegoría del país que fue\, del que construimos y del que será\, a través del ritual teatral: actores forjando un mundo que invita a la reflexión y a la emoción.  								\n				\n					\n		\n					\n		\n				\n						\n					\n			\n						\n				\n									\n					\n						\n						\n							\n									Comprar entradas
URL:https://teatropalaciovaldes.es/evento/desde-la-lona/
CATEGORIES:Estreno Absoluto,Teatro
ATTACH;FMTTYPE=image/jpeg:https://teatropalaciovaldes.es/wp-content/uploads/2024/11/desde-la-lona.jpg
END:VEVENT
END:VCALENDAR