BEGIN:VCALENDAR
VERSION:2.0
PRODID:-//Teatro Palacio Valdés - Avilés - ECPv6.13.2.1//NONSGML v1.0//EN
CALSCALE:GREGORIAN
METHOD:PUBLISH
X-WR-CALNAME:Teatro Palacio Valdés - Avilés
X-ORIGINAL-URL:https://teatropalaciovaldes.es
X-WR-CALDESC:Eventos para Teatro Palacio Valdés - Avilés
REFRESH-INTERVAL;VALUE=DURATION:PT1H
X-Robots-Tag:noindex
X-PUBLISHED-TTL:PT1H
BEGIN:VTIMEZONE
TZID:Europe/Madrid
BEGIN:DAYLIGHT
TZOFFSETFROM:+0100
TZOFFSETTO:+0200
TZNAME:CEST
DTSTART:20220327T010000
END:DAYLIGHT
BEGIN:STANDARD
TZOFFSETFROM:+0200
TZOFFSETTO:+0100
TZNAME:CET
DTSTART:20221030T010000
END:STANDARD
END:VTIMEZONE
BEGIN:VEVENT
DTSTART;TZID=Europe/Madrid:20221111T200000
DTEND;TZID=Europe/Madrid:20221111T220000
DTSTAMP:20260424T221020
CREATED:20221102T092926Z
LAST-MODIFIED:20221102T093649Z
UID:4376-1668196800-1668204000@teatropalaciovaldes.es
SUMMARY:EDIPO. A TRAVÉS DE LAS LLAMAS
DESCRIPTION:PROGRAMACIÓN PLATEA  \nDe Paco Bezerra  \nDirección: Luis Luque \nCon Alejo Sauras\, Mina El Hummani\, Julia Rubio y otros \nEl individualismo dominante se abre a la indagación de otros significados de la condición del hombre actual bajo la trama diferentemente invocada de un lejano mito universal. \n Entradas a la ventas:\nhttps://uniticket.janto.es/palaciovaldes\nY en taquilla del Teatro Palacio Valdés / Casa de Cultura.\n 
URL:https://teatropalaciovaldes.es/evento/edipo-a-traves-de-las-llamas/
CATEGORIES:Teatro
ATTACH;FMTTYPE=image/jpeg:https://teatropalaciovaldes.es/wp-content/uploads/2022/11/edipo-a-traves-de-las-llamas-1.jpg
END:VEVENT
END:VCALENDAR