BEGIN:VCALENDAR
VERSION:2.0
PRODID:-//Teatro Palacio Valdés - Avilés - ECPv6.13.2.1//NONSGML v1.0//EN
CALSCALE:GREGORIAN
METHOD:PUBLISH
X-WR-CALNAME:Teatro Palacio Valdés - Avilés
X-ORIGINAL-URL:https://teatropalaciovaldes.es
X-WR-CALDESC:Eventos para Teatro Palacio Valdés - Avilés
REFRESH-INTERVAL;VALUE=DURATION:PT1H
X-Robots-Tag:noindex
X-PUBLISHED-TTL:PT1H
BEGIN:VTIMEZONE
TZID:Europe/Madrid
BEGIN:DAYLIGHT
TZOFFSETFROM:+0100
TZOFFSETTO:+0200
TZNAME:CEST
DTSTART:20220327T010000
END:DAYLIGHT
BEGIN:STANDARD
TZOFFSETFROM:+0200
TZOFFSETTO:+0100
TZNAME:CET
DTSTART:20221030T010000
END:STANDARD
END:VTIMEZONE
BEGIN:VEVENT
DTSTART;TZID=Europe/Madrid:20220826T210000
DTEND;TZID=Europe/Madrid:20220826T223000
DTSTAMP:20260424T221028
CREATED:20220803T121424Z
LAST-MODIFIED:20220823T095030Z
UID:4331-1661547600-1661553000@teatropalaciovaldes.es
SUMMARY:EL BESO DE LA MUJER ARAÑA
DESCRIPTION: Entradas a la ventas:\nhttps://bit.ly/3Kcml9p\nY en taquilla del Teatro Palacio Valdés / Casa de Cultura.
URL:https://teatropalaciovaldes.es/evento/el-beso-de-la-mujer-arana/
CATEGORIES:Teatro
ATTACH;FMTTYPE=image/jpeg:https://teatropalaciovaldes.es/wp-content/uploads/2022/07/escena-aviles-agosto-septiembre-2022.jpg
END:VEVENT
END:VCALENDAR