BEGIN:VCALENDAR
VERSION:2.0
PRODID:-//Teatro Palacio Valdés - Avilés - ECPv6.13.2.1//NONSGML v1.0//EN
CALSCALE:GREGORIAN
METHOD:PUBLISH
X-WR-CALNAME:Teatro Palacio Valdés - Avilés
X-ORIGINAL-URL:https://teatropalaciovaldes.es
X-WR-CALDESC:Eventos para Teatro Palacio Valdés - Avilés
REFRESH-INTERVAL;VALUE=DURATION:PT1H
X-Robots-Tag:noindex
X-PUBLISHED-TTL:PT1H
BEGIN:VTIMEZONE
TZID:Europe/Madrid
BEGIN:DAYLIGHT
TZOFFSETFROM:+0100
TZOFFSETTO:+0200
TZNAME:CEST
DTSTART:20250330T010000
END:DAYLIGHT
BEGIN:STANDARD
TZOFFSETFROM:+0200
TZOFFSETTO:+0100
TZNAME:CET
DTSTART:20251026T010000
END:STANDARD
END:VTIMEZONE
BEGIN:VEVENT
DTSTART;TZID=Europe/Madrid:20251217T200000
DTEND;TZID=Europe/Madrid:20251217T200000
DTSTAMP:20260424T194307
CREATED:20250729T111517Z
LAST-MODIFIED:20251014T144837Z
UID:6903-1766001600-1766001600@teatropalaciovaldes.es
SUMMARY:EL BUEN MARIDO
DESCRIPTION:Teatro del Cuervo y Territorio VioletaAutoría y dirección: Pilar G. AlmansaCon Rosa Merás y Sergio Gayol Una espécimen hembra de otra galaxia llega a la Tierra para investigar si nuestro planeta sería colonizable: una crítica social de los roles de género en clave de comedia. 								\n				\n					\n		\n					\n		\n				\n						\n					\n			\n						\n				\n							\n			\n		\n						\n				\n					\n		\n					\n		\n				\n						\n					\n			\n						\n				\n									\n					\n						\n						\n							\n									Comprar entradas
URL:https://teatropalaciovaldes.es/evento/el-buen-marido/
CATEGORIES:Teatro
ATTACH;FMTTYPE=image/jpeg:https://teatropalaciovaldes.es/wp-content/uploads/2025/07/buen-marido.jpg
END:VEVENT
END:VCALENDAR