BEGIN:VCALENDAR
VERSION:2.0
PRODID:-//Teatro Palacio Valdés - Avilés - ECPv6.13.2.1//NONSGML v1.0//EN
CALSCALE:GREGORIAN
METHOD:PUBLISH
X-WR-CALNAME:Teatro Palacio Valdés - Avilés
X-ORIGINAL-URL:https://teatropalaciovaldes.es
X-WR-CALDESC:Eventos para Teatro Palacio Valdés - Avilés
REFRESH-INTERVAL;VALUE=DURATION:PT1H
X-Robots-Tag:noindex
X-PUBLISHED-TTL:PT1H
BEGIN:VTIMEZONE
TZID:Europe/Madrid
BEGIN:DAYLIGHT
TZOFFSETFROM:+0100
TZOFFSETTO:+0200
TZNAME:CEST
DTSTART:20220327T010000
END:DAYLIGHT
BEGIN:STANDARD
TZOFFSETFROM:+0200
TZOFFSETTO:+0100
TZNAME:CET
DTSTART:20221030T010000
END:STANDARD
END:VTIMEZONE
BEGIN:VEVENT
DTSTART;TZID=Europe/Madrid:20220311T201500
DTEND;TZID=Europe/Madrid:20220311T220000
DTSTAMP:20260425T150820
CREATED:20211212T195557Z
LAST-MODIFIED:20220209T220909Z
UID:4036-1647029700-1647036000@teatropalaciovaldes.es
SUMMARY:EL CUIDADOR
DESCRIPTION:ESCENAVILES: ESTRENO ABSOLUTO \nDe Harold Pinter \nDirección: Antonio Simón \nCon Joaquín Climent\, Pablo Rivero y Juan Díaz \nLúcida crítica a las circunstancias y condiciones de nuestra existencia en la poderosa tradición de la comedia británica. Una de las obras más representadas de Pinter\, Premio Nobel de Literatura
URL:https://teatropalaciovaldes.es/evento/el-cuidador/
CATEGORIES:Estreno Absoluto,Teatro
ATTACH;FMTTYPE=image/jpeg:https://teatropalaciovaldes.es/wp-content/uploads/2021/12/el-cuidador-7-187x126-1.jpg
END:VEVENT
END:VCALENDAR