BEGIN:VCALENDAR
VERSION:2.0
PRODID:-//Teatro Palacio Valdés - Avilés - ECPv6.13.2.1//NONSGML v1.0//EN
CALSCALE:GREGORIAN
METHOD:PUBLISH
X-WR-CALNAME:Teatro Palacio Valdés - Avilés
X-ORIGINAL-URL:https://teatropalaciovaldes.es
X-WR-CALDESC:Eventos para Teatro Palacio Valdés - Avilés
REFRESH-INTERVAL;VALUE=DURATION:PT1H
X-Robots-Tag:noindex
X-PUBLISHED-TTL:PT1H
BEGIN:VTIMEZONE
TZID:Europe/Madrid
BEGIN:DAYLIGHT
TZOFFSETFROM:+0100
TZOFFSETTO:+0200
TZNAME:CEST
DTSTART:20250330T010000
END:DAYLIGHT
BEGIN:STANDARD
TZOFFSETFROM:+0200
TZOFFSETTO:+0100
TZNAME:CET
DTSTART:20251026T010000
END:STANDARD
END:VTIMEZONE
BEGIN:VEVENT
DTSTART;TZID=Europe/Madrid:20250315T200000
DTEND;TZID=Europe/Madrid:20250315T200000
DTSTAMP:20260425T050324
CREATED:20241119T135153Z
LAST-MODIFIED:20250310T113226Z
UID:6463-1742068800-1742068800@teatropalaciovaldes.es
SUMMARY:EL EFECTO
DESCRIPTION:Autoría: Lucy Prebble.Adaptación: Juan Carlos Fisher y Rómulo Assereto.Dirección: Juan Carlos Fisher.Con Alicia Borrachero\, Fran Perea\, Elena Rivera e Itzan Escamilla. La creadora de la célebre serie Succession ofrece una experiencia teatral intensa y estimulante que examina con profundidad y humor el origen del amor y los límites de la ética.   								\n				\n					\n		\n					\n		\n				\n						\n					\n			\n						\n				\n									\n					\n						\n						\n							\n									Comprar entradas
URL:https://teatropalaciovaldes.es/evento/el-efecto-2/
CATEGORIES:Estreno Absoluto,Teatro
ATTACH;FMTTYPE=image/jpeg:https://teatropalaciovaldes.es/wp-content/uploads/2024/11/el-efecto.jpg
END:VEVENT
END:VCALENDAR