BEGIN:VCALENDAR
VERSION:2.0
PRODID:-//Teatro Palacio Valdés - Avilés - ECPv6.13.2.1//NONSGML v1.0//EN
CALSCALE:GREGORIAN
METHOD:PUBLISH
X-WR-CALNAME:Teatro Palacio Valdés - Avilés
X-ORIGINAL-URL:https://teatropalaciovaldes.es
X-WR-CALDESC:Eventos para Teatro Palacio Valdés - Avilés
REFRESH-INTERVAL;VALUE=DURATION:PT1H
X-Robots-Tag:noindex
X-PUBLISHED-TTL:PT1H
BEGIN:VTIMEZONE
TZID:Europe/Madrid
BEGIN:DAYLIGHT
TZOFFSETFROM:+0100
TZOFFSETTO:+0200
TZNAME:CEST
DTSTART:20230326T010000
END:DAYLIGHT
BEGIN:STANDARD
TZOFFSETFROM:+0200
TZOFFSETTO:+0100
TZNAME:CET
DTSTART:20231029T010000
END:STANDARD
END:VTIMEZONE
BEGIN:VEVENT
DTSTART;TZID=Europe/Madrid:20231226T183000
DTEND;TZID=Europe/Madrid:20231226T183000
DTSTAMP:20260425T025614
CREATED:20231113T124429Z
LAST-MODIFIED:20231113T165152Z
UID:5454-1703615400-1703615400@teatropalaciovaldes.es
SUMMARY:EL GATO CON BOTAS
DESCRIPTION:El Gato con Botas El miaaauuu…sical\n\n\nEl Rey ha de casar a su hija la Princesa Evelyn. Conforme a la leyes de la antigua tradición. Sin embargo\, ella ama al joven Todd\, el hijo del Molinero.\nGracias a la astucia del Gato con Botas\, Todd se convertirá en el afamado Marqués de Carabás\, digno pretendiente para Evelyn.\nAunque el malvado Príncipe Eric no se lo pondrá nada fácil…\n¡ÚNETE A ESTA TREPIDANTE AVENTURA!  \n\n								\n				\n					\n		\n					\n		\n				\n						\n					\n			\n						\n				\n									\n					\n						\n						\n							\n									Comprar entradas
URL:https://teatropalaciovaldes.es/evento/el-gato-con-botas/
CATEGORIES:En familia,Música
ATTACH;FMTTYPE=image/jpeg:https://teatropalaciovaldes.es/wp-content/uploads/2023/11/cartel_gato-717x1024-1.jpg
END:VEVENT
END:VCALENDAR