BEGIN:VCALENDAR
VERSION:2.0
PRODID:-//Teatro Palacio Valdés - Avilés - ECPv6.13.2.1//NONSGML v1.0//EN
CALSCALE:GREGORIAN
METHOD:PUBLISH
X-WR-CALNAME:Teatro Palacio Valdés - Avilés
X-ORIGINAL-URL:https://teatropalaciovaldes.es
X-WR-CALDESC:Eventos para Teatro Palacio Valdés - Avilés
REFRESH-INTERVAL;VALUE=DURATION:PT1H
X-Robots-Tag:noindex
X-PUBLISHED-TTL:PT1H
BEGIN:VTIMEZONE
TZID:Europe/Madrid
BEGIN:DAYLIGHT
TZOFFSETFROM:+0100
TZOFFSETTO:+0200
TZNAME:CEST
DTSTART:20230326T010000
END:DAYLIGHT
BEGIN:STANDARD
TZOFFSETFROM:+0200
TZOFFSETTO:+0100
TZNAME:CET
DTSTART:20231029T010000
END:STANDARD
END:VTIMEZONE
BEGIN:VEVENT
DTSTART;TZID=Europe/Madrid:20230513T201500
DTEND;TZID=Europe/Madrid:20230513T201500
DTSTAMP:20260424T231827
CREATED:20230319T083826Z
LAST-MODIFIED:20230319T083921Z
UID:5061-1684008900-1684008900@teatropalaciovaldes.es
SUMMARY:EL GESTO IMPERCEPTIBLE
DESCRIPTION:Autor\, director e intérprete: Jóse Busto. Una acción dramática girando en torno a la cuestión palpitante del suicidio\, tan difícilmente desentrañable y tan próxima a la sensación de soledad que se genera en la vida cosmopolita. 								\n				\n				\n				\n									\n					\n						\n						\n							\n									Comprar entradas\n					\n					\n				\n								\n				\n				\n				\n									También disponibles en taquilla del Teatro Palacio Valdés / Casa de Cultura.
URL:https://teatropalaciovaldes.es/evento/el-gesto-imperceptible/
CATEGORIES:Estreno Absoluto,Teatro
ATTACH;FMTTYPE=image/jpeg:https://teatropalaciovaldes.es/wp-content/uploads/2023/03/El-Gesto-Imperceptible-2.jpg
END:VEVENT
END:VCALENDAR