BEGIN:VCALENDAR
VERSION:2.0
PRODID:-//Teatro Palacio Valdés - Avilés - ECPv6.13.2.1//NONSGML v1.0//EN
CALSCALE:GREGORIAN
METHOD:PUBLISH
X-WR-CALNAME:Teatro Palacio Valdés - Avilés
X-ORIGINAL-URL:https://teatropalaciovaldes.es
X-WR-CALDESC:Eventos para Teatro Palacio Valdés - Avilés
REFRESH-INTERVAL;VALUE=DURATION:PT1H
X-Robots-Tag:noindex
X-PUBLISHED-TTL:PT1H
BEGIN:VTIMEZONE
TZID:Europe/Madrid
BEGIN:DAYLIGHT
TZOFFSETFROM:+0100
TZOFFSETTO:+0200
TZNAME:CEST
DTSTART:20250330T010000
END:DAYLIGHT
BEGIN:STANDARD
TZOFFSETFROM:+0200
TZOFFSETTO:+0100
TZNAME:CET
DTSTART:20251026T010000
END:STANDARD
END:VTIMEZONE
BEGIN:VEVENT
DTSTART;TZID=Europe/Madrid:20251026T190000
DTEND;TZID=Europe/Madrid:20251026T190000
DTSTAMP:20260424T194700
CREATED:20250812T111511Z
LAST-MODIFIED:20251024T152710Z
UID:6920-1761505200-1761505200@teatropalaciovaldes.es
SUMMARY:EL HIJO DE LA CÓMICA
DESCRIPTION:De El tiempo amarillo\, 1921-1943 de Fernando Fernán-GómezAdaptación\, dirección e interpretación: José Sacristán José Sacristán se sirve de las memorias de Fernando Fernán-Gómez para rendirle un emotivo homenaje de profunda admiración hacia su figura y su significado en la época que le tocó vivir. 								\n				\n					\n		\n					\n		\n				\n						\n					\n			\n						\n				\n							\n			\n		\n						\n				\n					\n		\n					\n		\n				\n						\n					\n			\n						\n				\n									\n					\n						\n						\n							\n									Entradas agotadas
URL:https://teatropalaciovaldes.es/evento/el-hijo-de-la-comica-3/
CATEGORIES:Teatro
ATTACH;FMTTYPE=image/jpeg:https://teatropalaciovaldes.es/wp-content/uploads/2025/07/el-hijo.jpg
END:VEVENT
END:VCALENDAR