BEGIN:VCALENDAR
VERSION:2.0
PRODID:-//Teatro Palacio Valdés - Avilés - ECPv6.13.2.1//NONSGML v1.0//EN
CALSCALE:GREGORIAN
METHOD:PUBLISH
X-WR-CALNAME:Teatro Palacio Valdés - Avilés
X-ORIGINAL-URL:https://teatropalaciovaldes.es
X-WR-CALDESC:Eventos para Teatro Palacio Valdés - Avilés
REFRESH-INTERVAL;VALUE=DURATION:PT1H
X-Robots-Tag:noindex
X-PUBLISHED-TTL:PT1H
BEGIN:VTIMEZONE
TZID:Europe/Madrid
BEGIN:DAYLIGHT
TZOFFSETFROM:+0100
TZOFFSETTO:+0200
TZNAME:CEST
DTSTART:20240331T010000
END:DAYLIGHT
BEGIN:STANDARD
TZOFFSETFROM:+0200
TZOFFSETTO:+0100
TZNAME:CET
DTSTART:20241027T010000
END:STANDARD
END:VTIMEZONE
BEGIN:VEVENT
DTSTART;TZID=Europe/Madrid:20240802T200000
DTEND;TZID=Europe/Madrid:20240802T200000
DTSTAMP:20260425T014522
CREATED:20240614T142736Z
LAST-MODIFIED:20240729T193750Z
UID:6102-1722628800-1722628800@teatropalaciovaldes.es
SUMMARY:EL PERRO DEL HORTELANO
DESCRIPTION:De Lope de VegaFundación Siglo de OroAdaptación de Dominic Dromgoole y Fundación Siglo de Oro.Dirección: Dominic DromgooleCon Manuela Morales\, Martín Puñal\, Leticia Ramos\,  Natalia Llorente\, Nuria Gil\, Enrique Meléndez\, Ángel Ramón Jiménez\, José Ramón Arredondo\, Mario Vedoya\, Rodrigo Arribas y Julio Hidalgo. \nLa transgresión de los límites de unas cerradas clases sociales y la turbadora pérdida de identidad que conllevan\, en este título de referencia del teatro barroco\, con puesta en escena a cargo de Dominic Dromgoole\, exdirector del Shakespeare’s Globe Theatre. 								\n				\n					\n		\n					\n		\n				\n						\n					\n			\n						\n				\n									\n					\n						\n						\n							\n									Comprar entradas
URL:https://teatropalaciovaldes.es/evento/el-perro-del-hortelano/
CATEGORIES:Teatro
ATTACH;FMTTYPE=image/jpeg:https://teatropalaciovaldes.es/wp-content/uploads/2024/06/el-perro-del-hortelano.jpg
END:VEVENT
END:VCALENDAR