BEGIN:VCALENDAR
VERSION:2.0
PRODID:-//Teatro Palacio Valdés - Avilés - ECPv6.13.2.1//NONSGML v1.0//EN
CALSCALE:GREGORIAN
METHOD:PUBLISH
X-WR-CALNAME:Teatro Palacio Valdés - Avilés
X-ORIGINAL-URL:https://teatropalaciovaldes.es
X-WR-CALDESC:Eventos para Teatro Palacio Valdés - Avilés
REFRESH-INTERVAL;VALUE=DURATION:PT1H
X-Robots-Tag:noindex
X-PUBLISHED-TTL:PT1H
BEGIN:VTIMEZONE
TZID:Europe/Madrid
BEGIN:DAYLIGHT
TZOFFSETFROM:+0100
TZOFFSETTO:+0200
TZNAME:CEST
DTSTART:20230326T010000
END:DAYLIGHT
BEGIN:STANDARD
TZOFFSETFROM:+0200
TZOFFSETTO:+0100
TZNAME:CET
DTSTART:20231029T010000
END:STANDARD
END:VTIMEZONE
BEGIN:VEVENT
DTSTART;TZID=Europe/Madrid:20230224T201500
DTEND;TZID=Europe/Madrid:20230224T201500
DTSTAMP:20260424T220844
CREATED:20221215T165009Z
LAST-MODIFIED:20221219T202858Z
UID:4686-1677269700-1677269700@teatropalaciovaldes.es
SUMMARY:EN TIERRA EXTRAÑA
DESCRIPTION:Idea original: José María Cámara y Juan Carlos Rubio.\n\nLibreto y dirección: Juan Carlos Rubio.\n\nCon Diana Navarro\, Alejandro Vera y Avelino Piedad.\n\nEncuentro imaginario\, al ritmo de coplas y jazz\, entre Concha Piquer\, Federico García Lorca y Rafael de León en el marco convulso de los meses previos a la Guerra Civil.								\n				\n				\n				\n									\n					\n						\n						\n							\n									Comprar entradas\n					\n					\n				\n								\n				\n				\n				\n									También disponibles en taquilla del Teatro Palacio Valdés / Casa de Cultura.
URL:https://teatropalaciovaldes.es/evento/en-tierra-extrana/
CATEGORIES:Teatro
ATTACH;FMTTYPE=image/jpeg:https://teatropalaciovaldes.es/wp-content/uploads/2022/12/En-Tierra-Extrana-10.jpg
END:VEVENT
END:VCALENDAR