BEGIN:VCALENDAR
VERSION:2.0
PRODID:-//Teatro Palacio Valdés - Avilés - ECPv6.13.2.1//NONSGML v1.0//EN
CALSCALE:GREGORIAN
METHOD:PUBLISH
X-WR-CALNAME:Teatro Palacio Valdés - Avilés
X-ORIGINAL-URL:https://teatropalaciovaldes.es
X-WR-CALDESC:Eventos para Teatro Palacio Valdés - Avilés
REFRESH-INTERVAL;VALUE=DURATION:PT1H
X-Robots-Tag:noindex
X-PUBLISHED-TTL:PT1H
BEGIN:VTIMEZONE
TZID:Europe/Madrid
BEGIN:DAYLIGHT
TZOFFSETFROM:+0100
TZOFFSETTO:+0200
TZNAME:CEST
DTSTART:20230326T010000
END:DAYLIGHT
BEGIN:STANDARD
TZOFFSETFROM:+0200
TZOFFSETTO:+0100
TZNAME:CET
DTSTART:20231029T010000
END:STANDARD
END:VTIMEZONE
BEGIN:VEVENT
DTSTART;TZID=Europe/Madrid:20230317T201500
DTEND;TZID=Europe/Madrid:20230317T201500
DTSTAMP:20260424T220716
CREATED:20221215T164627Z
LAST-MODIFIED:20221219T203014Z
UID:4684-1679084100-1679084100@teatropalaciovaldes.es
SUMMARY:EQUUS
DESCRIPTION:Autor: Peter Shaffer.  Adaptación de Natalio Grueso.  Dirección: Carolina África.  Con Roberto Álvarez\, Álex Villazán\, Manuela Paso\, Claudia Galán y Jorge Mayor.  Nueva versión de un clásico\, un thriller psicológico: la indagación de un psiquiatra sobre la anómala personalidad de un joven y sus motivaciones ocultas para llevarlo a cometer un acto brutal. 								\n				\n				\n				\n									\n					\n						\n						\n							\n									Comprar entradas\n					\n					\n				\n								\n				\n				\n				\n									También disponibles en taquilla del Teatro Palacio Valdés / Casa de Cultura.
URL:https://teatropalaciovaldes.es/evento/equus/
CATEGORIES:Teatro
ATTACH;FMTTYPE=image/jpeg:https://teatropalaciovaldes.es/wp-content/uploads/2022/12/EQUUS.jpg
END:VEVENT
END:VCALENDAR