BEGIN:VCALENDAR
VERSION:2.0
PRODID:-//Teatro Palacio Valdés - Avilés - ECPv6.13.2.1//NONSGML v1.0//EN
CALSCALE:GREGORIAN
METHOD:PUBLISH
X-WR-CALNAME:Teatro Palacio Valdés - Avilés
X-ORIGINAL-URL:https://teatropalaciovaldes.es
X-WR-CALDESC:Eventos para Teatro Palacio Valdés - Avilés
REFRESH-INTERVAL;VALUE=DURATION:PT1H
X-Robots-Tag:noindex
X-PUBLISHED-TTL:PT1H
BEGIN:VTIMEZONE
TZID:Europe/Madrid
BEGIN:DAYLIGHT
TZOFFSETFROM:+0100
TZOFFSETTO:+0200
TZNAME:CEST
DTSTART:20230326T010000
END:DAYLIGHT
BEGIN:STANDARD
TZOFFSETFROM:+0200
TZOFFSETTO:+0100
TZNAME:CET
DTSTART:20231029T010000
END:STANDARD
END:VTIMEZONE
BEGIN:VEVENT
DTSTART;TZID=Europe/Madrid:20230609T201500
DTEND;TZID=Europe/Madrid:20230609T201500
DTSTAMP:20260424T231436
CREATED:20230428T073311Z
LAST-MODIFIED:20230515T091937Z
UID:5049-1686341700-1686341700@teatropalaciovaldes.es
SUMMARY:FINLANDIA
DESCRIPTION:Autor y director: Pascal Rambert.Traducción y adaptación: Coto Adánez.Con Irene Escolar\, Israel Elejalde y Julia Rodríguez/Noa García. Un padre y una madre discuten la custodia de una hija. Un texto escrito expresamente para sus dos intérpretes de los cuales el autor declara “conocer perfectamente los ritmos subterráneos de su manera de actuar”.								\n				\n				\n				\n									\n					\n						\n						\n							\n									Comprar entradas\n					\n					\n				\n								\n				\n				\n				\n									También disponibles en taquilla del Teatro Palacio Valdés / Casa de Cultura.
URL:https://teatropalaciovaldes.es/evento/finlandia/
CATEGORIES:Teatro
ATTACH;FMTTYPE=image/png:https://teatropalaciovaldes.es/wp-content/uploads/2023/03/FINLANDIA.png
END:VEVENT
END:VCALENDAR