BEGIN:VCALENDAR
VERSION:2.0
PRODID:-//Teatro Palacio Valdés - Avilés - ECPv6.13.2.1//NONSGML v1.0//EN
CALSCALE:GREGORIAN
METHOD:PUBLISH
X-WR-CALNAME:Teatro Palacio Valdés - Avilés
X-ORIGINAL-URL:https://teatropalaciovaldes.es
X-WR-CALDESC:Eventos para Teatro Palacio Valdés - Avilés
REFRESH-INTERVAL;VALUE=DURATION:PT1H
X-Robots-Tag:noindex
X-PUBLISHED-TTL:PT1H
BEGIN:VTIMEZONE
TZID:Europe/Madrid
BEGIN:DAYLIGHT
TZOFFSETFROM:+0100
TZOFFSETTO:+0200
TZNAME:CEST
DTSTART:20230326T010000
END:DAYLIGHT
BEGIN:STANDARD
TZOFFSETFROM:+0200
TZOFFSETTO:+0100
TZNAME:CET
DTSTART:20231029T010000
END:STANDARD
END:VTIMEZONE
BEGIN:VEVENT
DTSTART;TZID=Europe/Madrid:20231216T170000
DTEND;TZID=Europe/Madrid:20231216T170000
DTSTAMP:20260425T014004
CREATED:20231130T114334Z
LAST-MODIFIED:20231130T114444Z
UID:5510-1702746000-1702746000@teatropalaciovaldes.es
SUMMARY:GRAN CIRCO ACROBÁTICO DE CHINA
DESCRIPTION: 3 funciones únicas en Asturias.\nEl famoso y prestigioso Gran Circo Acrobático de China\, es un deleite para los cinco sentidos.\nCalificado como único en el mundo y con más de 30 artistas en escena\, la mayoría medallistas olímpicos y algunos procedentes del Cirque du Soleil. El show invita al público a viajar junto al protagonista\, un niño soñador que entra en un mundo de fantasía.\n  \n								\n				\n					\n		\n					\n		\n				\n						\n					\n			\n						\n				\n									\n					\n						\n						\n							\n									Comprar entradas
URL:https://teatropalaciovaldes.es/evento/gran-circo-acrobatico-de-china-3/
CATEGORIES:En familia
ATTACH;FMTTYPE=image/jpeg:https://teatropalaciovaldes.es/wp-content/uploads/2023/10/circo-chino.jpg
END:VEVENT
END:VCALENDAR