BEGIN:VCALENDAR
VERSION:2.0
PRODID:-//Teatro Palacio Valdés - Avilés - ECPv6.13.2.1//NONSGML v1.0//EN
CALSCALE:GREGORIAN
METHOD:PUBLISH
X-WR-CALNAME:Teatro Palacio Valdés - Avilés
X-ORIGINAL-URL:https://teatropalaciovaldes.es
X-WR-CALDESC:Eventos para Teatro Palacio Valdés - Avilés
REFRESH-INTERVAL;VALUE=DURATION:PT1H
X-Robots-Tag:noindex
X-PUBLISHED-TTL:PT1H
BEGIN:VTIMEZONE
TZID:Europe/Madrid
BEGIN:DAYLIGHT
TZOFFSETFROM:+0100
TZOFFSETTO:+0200
TZNAME:CEST
DTSTART:20250330T010000
END:DAYLIGHT
BEGIN:STANDARD
TZOFFSETFROM:+0200
TZOFFSETTO:+0100
TZNAME:CET
DTSTART:20251026T010000
END:STANDARD
END:VTIMEZONE
BEGIN:VEVENT
DTSTART;TZID=Europe/Madrid:20251115T200000
DTEND;TZID=Europe/Madrid:20251115T200000
DTSTAMP:20260424T221004
CREATED:20250923T111210Z
LAST-MODIFIED:20250923T111210Z
UID:6971-1763236800-1763236800@teatropalaciovaldes.es
SUMMARY:GRAN CIRCO ACROBÁTICO DE CHINA
DESCRIPTION:Nuevo espectáculo con dos funciones únicas en Asturias.\nEl famoso y prestigioso Gran Circo Acrobático de China\, es un deleite para los cinco sentidos.\nCalificado como único en el mundo y con más de 30 artistas en escena\, la mayoría medallistas olímpicos y algunos procedentes del Cirque du Soleil. 								\n				\n					\n		\n					\n		\n				\n						\n					\n			\n						\n				\n							\n			\n		\n						\n				\n					\n		\n					\n		\n				\n						\n					\n			\n						\n				\n									\n					\n						\n						\n							\n									Comprar entradas
URL:https://teatropalaciovaldes.es/evento/gran-circo-acrobatico-de-china-5/
CATEGORIES:En familia
ATTACH;FMTTYPE=image/jpeg:https://teatropalaciovaldes.es/wp-content/uploads/2025/09/GRAN-CIRCO-CHINO.jpg
END:VEVENT
END:VCALENDAR