BEGIN:VCALENDAR
VERSION:2.0
PRODID:-//Teatro Palacio Valdés - Avilés - ECPv6.13.2.1//NONSGML v1.0//EN
CALSCALE:GREGORIAN
METHOD:PUBLISH
X-WR-CALNAME:Teatro Palacio Valdés - Avilés
X-ORIGINAL-URL:https://teatropalaciovaldes.es
X-WR-CALDESC:Eventos para Teatro Palacio Valdés - Avilés
REFRESH-INTERVAL;VALUE=DURATION:PT1H
X-Robots-Tag:noindex
X-PUBLISHED-TTL:PT1H
BEGIN:VTIMEZONE
TZID:Europe/Madrid
BEGIN:DAYLIGHT
TZOFFSETFROM:+0100
TZOFFSETTO:+0200
TZNAME:CEST
DTSTART:20230326T010000
END:DAYLIGHT
BEGIN:STANDARD
TZOFFSETFROM:+0200
TZOFFSETTO:+0100
TZNAME:CET
DTSTART:20231029T010000
END:STANDARD
END:VTIMEZONE
BEGIN:VEVENT
DTSTART;TZID=Europe/Madrid:20230222T201500
DTEND;TZID=Europe/Madrid:20230222T201500
DTSTAMP:20260424T210531
CREATED:20230219T160055Z
LAST-MODIFIED:20230220T162326Z
UID:4731-1677096900-1677096900@teatropalaciovaldes.es
SUMMARY:GRIS DE AUSENCIA / EL ACOMPAÑANTE
DESCRIPTION:Teatro Estudio de Gijón.\n\nAutores: Roberto ‘Tito’ Cossa y Carlos Gorostiza.\n\nCon Filiberto Blanco\, Mariano Alfonso\, Ana Pérez\, Martina Bueno y Manuel Pizarro.\n\nDos piezas breves representando dos ámbitos de la soledad\, la de una familia tras una inevitable emigración y la de un tour de force entre dos personajes de razones irreconciliables.								\n				\n				\n				\n									\n					\n						\n						\n							\n									Comprar entradas\n					\n					\n				\n								\n				\n				\n				\n									También disponibles en taquilla del Teatro Palacio Valdés / Casa de Cultura.
URL:https://teatropalaciovaldes.es/evento/gris-de-ausencia-el-acompanante/
CATEGORIES:Teatro
ATTACH;FMTTYPE=image/jpeg:https://teatropalaciovaldes.es/wp-content/uploads/2022/12/Teatro-Estudio-Gijon.jpg
END:VEVENT
END:VCALENDAR