BEGIN:VCALENDAR
VERSION:2.0
PRODID:-//Teatro Palacio Valdés - Avilés - ECPv6.13.2.1//NONSGML v1.0//EN
CALSCALE:GREGORIAN
METHOD:PUBLISH
X-WR-CALNAME:Teatro Palacio Valdés - Avilés
X-ORIGINAL-URL:https://teatropalaciovaldes.es
X-WR-CALDESC:Eventos para Teatro Palacio Valdés - Avilés
REFRESH-INTERVAL;VALUE=DURATION:PT1H
X-Robots-Tag:noindex
X-PUBLISHED-TTL:PT1H
BEGIN:VTIMEZONE
TZID:Europe/Madrid
BEGIN:DAYLIGHT
TZOFFSETFROM:+0100
TZOFFSETTO:+0200
TZNAME:CEST
DTSTART:20230326T010000
END:DAYLIGHT
BEGIN:STANDARD
TZOFFSETFROM:+0200
TZOFFSETTO:+0100
TZNAME:CET
DTSTART:20231029T010000
END:STANDARD
END:VTIMEZONE
BEGIN:VEVENT
DTSTART;TZID=Europe/Madrid:20230607T201500
DTEND;TZID=Europe/Madrid:20230607T201500
DTSTAMP:20260424T210316
CREATED:20230428T074258Z
LAST-MODIFIED:20230515T091923Z
UID:5069-1686168900-1686168900@teatropalaciovaldes.es
SUMMARY:GUAU
DESCRIPTION:Higiénico Papel Teatro. Dramaturgia y dirección: Laura Iglesia. Con Carlos Dávila\, Carlos Mesa y Roca Suárez. Los límites más disparatados y divertidos de la relación entre humanos y animales\, presentados desde ambos puntos de vista combinando diferentes técnicas: interpretación gestual\, teatro de texto\, música y videocreación. 								\n				\n				\n				\n									\n					\n						\n						\n							\n									Comprar entradas\n					\n					\n				\n								\n				\n				\n				\n									También disponibles en taquilla del Teatro Palacio Valdés / Casa de Cultura.
URL:https://teatropalaciovaldes.es/evento/guau/
CATEGORIES:Teatro
ATTACH;FMTTYPE=image/jpeg:https://teatropalaciovaldes.es/wp-content/uploads/2023/03/guau.jpg
END:VEVENT
END:VCALENDAR