BEGIN:VCALENDAR
VERSION:2.0
PRODID:-//Teatro Palacio Valdés - Avilés - ECPv6.13.2.1//NONSGML v1.0//EN
CALSCALE:GREGORIAN
METHOD:PUBLISH
X-WR-CALNAME:Teatro Palacio Valdés - Avilés
X-ORIGINAL-URL:https://teatropalaciovaldes.es
X-WR-CALDESC:Eventos para Teatro Palacio Valdés - Avilés
REFRESH-INTERVAL;VALUE=DURATION:PT1H
X-Robots-Tag:noindex
X-PUBLISHED-TTL:PT1H
BEGIN:VTIMEZONE
TZID:Europe/Madrid
BEGIN:DAYLIGHT
TZOFFSETFROM:+0100
TZOFFSETTO:+0200
TZNAME:CEST
DTSTART:20230326T010000
END:DAYLIGHT
BEGIN:STANDARD
TZOFFSETFROM:+0200
TZOFFSETTO:+0100
TZNAME:CET
DTSTART:20231029T010000
END:STANDARD
END:VTIMEZONE
BEGIN:VEVENT
DTSTART;TZID=Europe/Madrid:20230825T210000
DTEND;TZID=Europe/Madrid:20230825T210000
DTSTAMP:20260425T013412
CREATED:20230626T192218Z
LAST-MODIFIED:20230823T102614Z
UID:5192-1692997200-1692997200@teatropalaciovaldes.es
SUMMARY:HECHOS Y FALTAS
DESCRIPTION:Autoría: Jeremy Kareken\, David Murrell y Gordon Farrell. Versión y dirección: Bernabé Rico. Con Ángeles Martín\, Antonio Dechent y Juan Grandinetti. Primero fue un best seller en EEUU y luego una delirante comedia de éxito internacional en torno a un interesante debate: la verificación de los hechos cuando se escribe sobre casos reales con libertad narrativa. 								\n				\n					\n		\n					\n		\n				\n						\n					\n			\n						\n				\n									\n					\n						\n						\n							\n									Comprar entradas
URL:https://teatropalaciovaldes.es/evento/hechos-y-faltas/
CATEGORIES:Estreno Absoluto,Teatro
ATTACH;FMTTYPE=image/jpeg:https://teatropalaciovaldes.es/wp-content/uploads/2023/06/hechos-y-faltas-nuevo.jpg
END:VEVENT
END:VCALENDAR