BEGIN:VCALENDAR
VERSION:2.0
PRODID:-//Teatro Palacio Valdés - Avilés - ECPv6.13.2.1//NONSGML v1.0//EN
CALSCALE:GREGORIAN
METHOD:PUBLISH
X-WR-CALNAME:Teatro Palacio Valdés - Avilés
X-ORIGINAL-URL:https://teatropalaciovaldes.es
X-WR-CALDESC:Eventos para Teatro Palacio Valdés - Avilés
REFRESH-INTERVAL;VALUE=DURATION:PT1H
X-Robots-Tag:noindex
X-PUBLISHED-TTL:PT1H
BEGIN:VTIMEZONE
TZID:Europe/Madrid
BEGIN:DAYLIGHT
TZOFFSETFROM:+0100
TZOFFSETTO:+0200
TZNAME:CEST
DTSTART:20250330T010000
END:DAYLIGHT
BEGIN:STANDARD
TZOFFSETFROM:+0200
TZOFFSETTO:+0100
TZNAME:CET
DTSTART:20251026T010000
END:STANDARD
END:VTIMEZONE
BEGIN:VEVENT
DTSTART;TZID=Europe/Madrid:20250213T200000
DTEND;TZID=Europe/Madrid:20250213T200000
DTSTAMP:20260424T220849
CREATED:20241119T121246Z
LAST-MODIFIED:20250202T121305Z
UID:6433-1739476800-1739476800@teatropalaciovaldes.es
SUMMARY:JULIETA EN VERANO
DESCRIPTION:compañía: PROYECTO JULIETA evento: Asturies Cultura en Rede FICHA ARTÍSTICA Y TÉCNICA EN ESCENAItsasne MartínezDiego VelascoCarmen De PicoagaÁlvaro BacigalupeMayra FernándezAna Eva GuerraMarino VillaDRAMATURGIA  Mayra Fernández\, Ana Eva Guerra\, Moisés González PUESTA EN ESCENAMayra Fernández\, Ana Eva Guerra\, Moisés González\, Nacho Ortega y Marino Villa ASESORÍA EN TEATRO DOCUMENTOLucía Miranda ESPACIO ESCÉNICOArtilugio CARACTERIZACIÓNAna Eva GuerraDISEÑO DE ILUMINACIÓNVirginia RevillaDISEÑO CARTELSofía HurtadoPRODUCCIÓNPROYECTO JULIETA (El callejón del Gato y Luz de Gas)Partimos de la obra de Shakespeare “Romeo y Julieta”\, pero la abordamos desde una perspectiva actual. Los personajes de JULIETA EN VERANO tienen móviles\, redes sociales\, acceso inmediato a toda la información sobre sus iguales\, pero mantienen las emociones y los conflictos universales de la obra de Shakespeare. Aprovechamos para poner sobre la mesa temas que afectan a los y las jóvenes de hoy\, como son: la toma de decisiones\, el futuro inmediato\, la presión con los estudios\, las redes sociales\, salud mental y tantos otros.   								\n				\n					\n		\n					\n		\n				\n						\n					\n			\n						\n				\n									\n					\n						\n						\n							\n									Comprar entradas
URL:https://teatropalaciovaldes.es/evento/julieta-en-verano/
CATEGORIES:Teatro
ATTACH;FMTTYPE=image/jpeg:https://teatropalaciovaldes.es/wp-content/uploads/2024/11/julieta-en-verano-1.jpg
END:VEVENT
END:VCALENDAR