BEGIN:VCALENDAR
VERSION:2.0
PRODID:-//Teatro Palacio Valdés - Avilés - ECPv6.13.2.1//NONSGML v1.0//EN
CALSCALE:GREGORIAN
METHOD:PUBLISH
X-WR-CALNAME:Teatro Palacio Valdés - Avilés
X-ORIGINAL-URL:https://teatropalaciovaldes.es
X-WR-CALDESC:Eventos para Teatro Palacio Valdés - Avilés
REFRESH-INTERVAL;VALUE=DURATION:PT1H
X-Robots-Tag:noindex
X-PUBLISHED-TTL:PT1H
BEGIN:VTIMEZONE
TZID:Europe/Madrid
BEGIN:DAYLIGHT
TZOFFSETFROM:+0100
TZOFFSETTO:+0200
TZNAME:CEST
DTSTART:20220327T010000
END:DAYLIGHT
BEGIN:STANDARD
TZOFFSETFROM:+0200
TZOFFSETTO:+0100
TZNAME:CET
DTSTART:20221030T010000
END:STANDARD
END:VTIMEZONE
BEGIN:VEVENT
DTSTART;TZID=Europe/Madrid:20221124T200000
DTEND;TZID=Europe/Madrid:20221124T220000
DTSTAMP:20260424T210317
CREATED:20221102T094414Z
LAST-MODIFIED:20221102T094414Z
UID:4394-1669320000-1669327200@teatropalaciovaldes.es
SUMMARY:KOLAPSO
DESCRIPTION:EscenApache \nAutoría y dirección: Marga Llano \nCon Rosa Manteiga\, Álvaro Celemín y Félix Llano \nTras un accidente ferroviario\, un hombre y una mujer quedan atrapados en una zona montañosa en plena ola de frío y se ven obligados a enfrentarse a sus prejuicios para sobrevivir. \n Entradas a la ventas:\nhttps://uniticket.janto.es/palaciovaldes\nY en taquilla del Teatro Palacio Valdés / Casa de Cultura.
URL:https://teatropalaciovaldes.es/evento/kolapso/
CATEGORIES:Teatro
ATTACH;FMTTYPE=image/jpeg:https://teatropalaciovaldes.es/wp-content/uploads/2022/11/Kolapso.jpg
END:VEVENT
END:VCALENDAR