BEGIN:VCALENDAR
VERSION:2.0
PRODID:-//Teatro Palacio Valdés - Avilés - ECPv6.13.2.1//NONSGML v1.0//EN
CALSCALE:GREGORIAN
METHOD:PUBLISH
X-WR-CALNAME:Teatro Palacio Valdés - Avilés
X-ORIGINAL-URL:https://teatropalaciovaldes.es
X-WR-CALDESC:Eventos para Teatro Palacio Valdés - Avilés
REFRESH-INTERVAL;VALUE=DURATION:PT1H
X-Robots-Tag:noindex
X-PUBLISHED-TTL:PT1H
BEGIN:VTIMEZONE
TZID:Europe/Madrid
BEGIN:DAYLIGHT
TZOFFSETFROM:+0100
TZOFFSETTO:+0200
TZNAME:CEST
DTSTART:20260329T010000
END:DAYLIGHT
BEGIN:STANDARD
TZOFFSETFROM:+0200
TZOFFSETTO:+0100
TZNAME:CET
DTSTART:20261025T010000
END:STANDARD
END:VTIMEZONE
BEGIN:VEVENT
DTSTART;TZID=Europe/Madrid:20260304T200000
DTEND;TZID=Europe/Madrid:20260304T200000
DTSTAMP:20260424T185504
CREATED:20251030T094104Z
LAST-MODIFIED:20260120T085848Z
UID:7052-1772654400-1772654400@teatropalaciovaldes.es
SUMMARY:LA BALADA DEL NORTE
DESCRIPTION:Saltantes Teatro\nAutoría: Alfonso Zapico\nDramaturgia y dirección: Luis Alija\nCoreografía y movimiento escénico: Estrella García\nCon Carlos Dávila\, Enrique Dueñas\, Carmen Gloria García\, Ernesto González\, Carla Loga\, Alberto Rodríguez\, David Varela y Nerea Vázquez\n\nPropuesta dramatúrgica condensando la novela gráfica de Alfonso Zapico: La aventura de los más de 100 personajes (representados por ocho intérpretes) que llega hasta la Revolución asturiana del 34.								\n				\n					\n		\n					\n		\n				\n						\n					\n			\n						\n				\n							\n			\n		\n						\n				\n					\n		\n					\n		\n				\n						\n					\n			\n						\n				\n									\n					\n						\n						\n							\n									Comprar entradas
URL:https://teatropalaciovaldes.es/evento/la-balada-del-norte/
CATEGORIES:Teatro
ATTACH;FMTTYPE=image/jpeg:https://teatropalaciovaldes.es/wp-content/uploads/2025/10/LA-BALADA-DEL-NORTE.jpg
END:VEVENT
END:VCALENDAR