BEGIN:VCALENDAR
VERSION:2.0
PRODID:-//Teatro Palacio Valdés - Avilés - ECPv6.13.2.1//NONSGML v1.0//EN
CALSCALE:GREGORIAN
METHOD:PUBLISH
X-WR-CALNAME:Teatro Palacio Valdés - Avilés
X-ORIGINAL-URL:https://teatropalaciovaldes.es
X-WR-CALDESC:Eventos para Teatro Palacio Valdés - Avilés
REFRESH-INTERVAL;VALUE=DURATION:PT1H
X-Robots-Tag:noindex
X-PUBLISHED-TTL:PT1H
BEGIN:VTIMEZONE
TZID:Europe/Madrid
BEGIN:DAYLIGHT
TZOFFSETFROM:+0100
TZOFFSETTO:+0200
TZNAME:CEST
DTSTART:20240331T010000
END:DAYLIGHT
BEGIN:STANDARD
TZOFFSETFROM:+0200
TZOFFSETTO:+0100
TZNAME:CET
DTSTART:20241027T010000
END:STANDARD
END:VTIMEZONE
BEGIN:VEVENT
DTSTART;TZID=Europe/Madrid:20240612T201500
DTEND;TZID=Europe/Madrid:20240612T201500
DTSTAMP:20260424T210744
CREATED:20240305T163000Z
LAST-MODIFIED:20240606T150019Z
UID:5843-1718223300-1718223300@teatropalaciovaldes.es
SUMMARY:LA CABEZA DEL DRAGÓN
DESCRIPTION:El callejón del gatoDe Ramón del Valle-Inclán Adaptación: Ana Eva Guerra y Moisés González Dirección: Ana Eva Guerra Con Javier Expósito\, Mayra Fernández\, Beatriz Canteli\, Juanjo Díez\, Marino Villa\, Moisés González. El inconfundible estilo valleinclanesco se manifiesta en la acerada sátira de la que nace esta acertada simbiosis de cuento maravilloso y de farsa demoledora contra la sociedad de su época. 								\n				\n					\n		\n					\n		\n				\n						\n					\n			\n						\n				\n									\n					\n						\n						\n							\n									Comprar entradas
URL:https://teatropalaciovaldes.es/evento/la-cabeza-del-dragon/
CATEGORIES:Teatro
ATTACH;FMTTYPE=image/jpeg:https://teatropalaciovaldes.es/wp-content/uploads/2024/03/la-cabez-adel-dragon.jpg
END:VEVENT
END:VCALENDAR