BEGIN:VCALENDAR
VERSION:2.0
PRODID:-//Teatro Palacio Valdés - Avilés - ECPv6.13.2.1//NONSGML v1.0//EN
CALSCALE:GREGORIAN
METHOD:PUBLISH
X-WR-CALNAME:Teatro Palacio Valdés - Avilés
X-ORIGINAL-URL:https://teatropalaciovaldes.es
X-WR-CALDESC:Eventos para Teatro Palacio Valdés - Avilés
REFRESH-INTERVAL;VALUE=DURATION:PT1H
X-Robots-Tag:noindex
X-PUBLISHED-TTL:PT1H
BEGIN:VTIMEZONE
TZID:Europe/Madrid
BEGIN:DAYLIGHT
TZOFFSETFROM:+0100
TZOFFSETTO:+0200
TZNAME:CEST
DTSTART:20240331T010000
END:DAYLIGHT
BEGIN:STANDARD
TZOFFSETFROM:+0200
TZOFFSETTO:+0100
TZNAME:CET
DTSTART:20241027T010000
END:STANDARD
END:VTIMEZONE
BEGIN:VEVENT
DTSTART;TZID=Europe/Madrid:20240607T201500
DTEND;TZID=Europe/Madrid:20240607T201500
DTSTAMP:20260424T232435
CREATED:20240305T162210Z
LAST-MODIFIED:20240606T150005Z
UID:5834-1717791300-1717791300@teatropalaciovaldes.es
SUMMARY:LA COLECCIÓN
DESCRIPTION:Texto y dirección: Juan Mayorga.Con Ignacio Jiménez\, Ana Marzoa\, Zaira Montes y José Sacristán. La herencia y el amor en la raíz de la nueva función de Mayorga: un matrimonio de coleccionistas se pregunta qué pasaría con su colección cuando ellos ya no estuvieran.   								\n				\n					\n		\n					\n		\n				\n						\n					\n			\n						\n				\n									\n					\n						\n						\n							\n									Comprar entradas
URL:https://teatropalaciovaldes.es/evento/la-coleccion/
CATEGORIES:Teatro
ATTACH;FMTTYPE=image/jpeg:https://teatropalaciovaldes.es/wp-content/uploads/2024/03/La-coleccion-Interior-1.jpg
END:VEVENT
END:VCALENDAR