BEGIN:VCALENDAR
VERSION:2.0
PRODID:-//Teatro Palacio Valdés - Avilés - ECPv6.13.2.1//NONSGML v1.0//EN
CALSCALE:GREGORIAN
METHOD:PUBLISH
X-WR-CALNAME:Teatro Palacio Valdés - Avilés
X-ORIGINAL-URL:https://teatropalaciovaldes.es
X-WR-CALDESC:Eventos para Teatro Palacio Valdés - Avilés
REFRESH-INTERVAL;VALUE=DURATION:PT1H
X-Robots-Tag:noindex
X-PUBLISHED-TTL:PT1H
BEGIN:VTIMEZONE
TZID:Europe/Madrid
BEGIN:DAYLIGHT
TZOFFSETFROM:+0100
TZOFFSETTO:+0200
TZNAME:CEST
DTSTART:20230326T010000
END:DAYLIGHT
BEGIN:STANDARD
TZOFFSETFROM:+0200
TZOFFSETTO:+0100
TZNAME:CET
DTSTART:20231029T010000
END:STANDARD
END:VTIMEZONE
BEGIN:VEVENT
DTSTART;TZID=Europe/Madrid:20230125T201500
DTEND;TZID=Europe/Madrid:20230125T201500
DTSTAMP:20260425T030544
CREATED:20221215T170439Z
LAST-MODIFIED:20221219T202730Z
UID:4700-1674677700-1674677700@teatropalaciovaldes.es
SUMMARY:LA LEY DE LA SELVA
DESCRIPTION:La Westia Producciones.  \nAutora: Elvira Lindo.  \nAdaptación y dirección: Francisco Pardo.  \nCon Isabel Marcos\, César Alonso y Virginia Rey.  \nEn una pareja entregada al ostracismo\, el personaje femenino hace valer su capacidad de imaginar con la aparición de un vecino de vida indómita que no resulta ser quien decía ser. 								\n				\n				\n				\n									\n					\n						\n						\n							\n									Comprar entradas\n					\n					\n				\n								\n				\n				\n				\n									También disponibles en taquilla del Teatro Palacio Valdés / Casa de Cultura.
URL:https://teatropalaciovaldes.es/evento/la-ley-de-la-selva/
CATEGORIES:Teatro
ATTACH;FMTTYPE=image/jpeg:https://teatropalaciovaldes.es/wp-content/uploads/2022/12/La-ley-de-la-selva.jpg
END:VEVENT
END:VCALENDAR