BEGIN:VCALENDAR
VERSION:2.0
PRODID:-//Teatro Palacio Valdés - Avilés - ECPv6.13.2.1//NONSGML v1.0//EN
CALSCALE:GREGORIAN
METHOD:PUBLISH
X-WR-CALNAME:Teatro Palacio Valdés - Avilés
X-ORIGINAL-URL:https://teatropalaciovaldes.es
X-WR-CALDESC:Eventos para Teatro Palacio Valdés - Avilés
REFRESH-INTERVAL;VALUE=DURATION:PT1H
X-Robots-Tag:noindex
X-PUBLISHED-TTL:PT1H
BEGIN:VTIMEZONE
TZID:Europe/Madrid
BEGIN:DAYLIGHT
TZOFFSETFROM:+0100
TZOFFSETTO:+0200
TZNAME:CEST
DTSTART:20260329T010000
END:DAYLIGHT
BEGIN:STANDARD
TZOFFSETFROM:+0200
TZOFFSETTO:+0100
TZNAME:CET
DTSTART:20261025T010000
END:STANDARD
END:VTIMEZONE
BEGIN:VEVENT
DTSTART;TZID=Europe/Madrid:20260307T200000
DTEND;TZID=Europe/Madrid:20260307T200000
DTSTAMP:20260424T185321
CREATED:20251030T094117Z
LAST-MODIFIED:20260120T085903Z
UID:7057-1772913600-1772913600@teatropalaciovaldes.es
SUMMARY:LARREAL. COMPAÑÍA DEL REAL CONSERVATORIO PROFESIONAL DE DANZA DE MADRID ‘MARIEMMA’
DESCRIPTION:7ª Sinfonía\, L. Van BeethovenDualia\, José NietoTake the bullets out yourself\, Joep Beving/Davidson JaconelloNada más y nada menos\, Carlos Nuñez 								\n				\n					\n		\n					\n		\n				\n						\n					\n			\n						\n				\n							\n			\n		\n						\n				\n					\n		\n					\n		\n				\n						\n					\n			\n						\n				\n									\n					\n						\n						\n							\n									Comprar entradas
URL:https://teatropalaciovaldes.es/evento/larreal-compania-del-real-conservatorio-profesional-de-danza-de-madrid-mariemma-2/
CATEGORIES:Danza
ATTACH;FMTTYPE=image/jpeg:https://teatropalaciovaldes.es/wp-content/uploads/2025/10/lareal.jpg
END:VEVENT
END:VCALENDAR