BEGIN:VCALENDAR
VERSION:2.0
PRODID:-//Teatro Palacio Valdés - Avilés - ECPv6.13.2.1//NONSGML v1.0//EN
CALSCALE:GREGORIAN
METHOD:PUBLISH
X-WR-CALNAME:Teatro Palacio Valdés - Avilés
X-ORIGINAL-URL:https://teatropalaciovaldes.es
X-WR-CALDESC:Eventos para Teatro Palacio Valdés - Avilés
REFRESH-INTERVAL;VALUE=DURATION:PT1H
X-Robots-Tag:noindex
X-PUBLISHED-TTL:PT1H
BEGIN:VTIMEZONE
TZID:Europe/Madrid
BEGIN:DAYLIGHT
TZOFFSETFROM:+0100
TZOFFSETTO:+0200
TZNAME:CEST
DTSTART:20260329T010000
END:DAYLIGHT
BEGIN:STANDARD
TZOFFSETFROM:+0200
TZOFFSETTO:+0100
TZNAME:CET
DTSTART:20261025T010000
END:STANDARD
END:VTIMEZONE
BEGIN:VEVENT
DTSTART;TZID=Europe/Madrid:20260328T200000
DTEND;TZID=Europe/Madrid:20260328T200000
DTSTAMP:20260424T173000
CREATED:20251030T093403Z
LAST-MODIFIED:20260316T083320Z
UID:7085-1774728000-1774728000@teatropalaciovaldes.es
SUMMARY:LAS GRATITUDES
DESCRIPTION:Basada en la novela de Delphine de ViganTraducción:Pablo Martín SánchezAdaptación teatral:Marta BertoldiDirección: Juan Carlos FisherCon Gloria Muñoz\, Rómulo Assereto y Macarena Sanz La lucha de una anciana contra la pérdida progresiva del habla se nos muestra en un ingenioso planteamiento que comporta una reflexión empática acerca de la vejez y la sociedad. 								\n				\n					\n		\n					\n		\n				\n						\n					\n			\n						\n				\n							\n			\n		\n						\n				\n					\n		\n					\n		\n				\n						\n					\n			\n						\n				\n									\n					\n						\n						\n							\n									Comprar entradas
URL:https://teatropalaciovaldes.es/evento/las-gratitudes/
CATEGORIES:Teatro
ATTACH;FMTTYPE=image/jpeg:https://teatropalaciovaldes.es/wp-content/uploads/2025/10/gratitudes-1.jpg
END:VEVENT
END:VCALENDAR