BEGIN:VCALENDAR
VERSION:2.0
PRODID:-//Teatro Palacio Valdés - Avilés - ECPv6.13.2.1//NONSGML v1.0//EN
CALSCALE:GREGORIAN
METHOD:PUBLISH
X-WR-CALNAME:Teatro Palacio Valdés - Avilés
X-ORIGINAL-URL:https://teatropalaciovaldes.es
X-WR-CALDESC:Eventos para Teatro Palacio Valdés - Avilés
REFRESH-INTERVAL;VALUE=DURATION:PT1H
X-Robots-Tag:noindex
X-PUBLISHED-TTL:PT1H
BEGIN:VTIMEZONE
TZID:Europe/Madrid
BEGIN:DAYLIGHT
TZOFFSETFROM:+0100
TZOFFSETTO:+0200
TZNAME:CEST
DTSTART:20230326T010000
END:DAYLIGHT
BEGIN:STANDARD
TZOFFSETFROM:+0200
TZOFFSETTO:+0100
TZNAME:CET
DTSTART:20231029T010000
END:STANDARD
END:VTIMEZONE
BEGIN:VEVENT
DTSTART;TZID=Europe/Madrid:20230512T201500
DTEND;TZID=Europe/Madrid:20230512T201500
DTSTAMP:20260424T220833
CREATED:20230319T082612Z
LAST-MODIFIED:20230319T082750Z
UID:5037-1683922500-1683922500@teatropalaciovaldes.es
SUMMARY:LO INEVITABLE
DESCRIPTION:Autor y director: Jóse Busto.Con Cris Puertas\, Susana Gudín\, Patricia Martínez\, Paula Cuadriello\, Cristina Lorenzo\, Sandro Cordero\, Pablo Escobedo\, Félix Corcuera y Fran Sariego. En un Avilés intranquilo y desmoralizado\, siete personajes que acaban de perder a un amigo común emprenden un deambular nocturno entre drogas y alcohol\, en un trasunto aciago de velorio improbable. 								\n				\n				\n				\n									\n					\n						\n						\n							\n									Comprar entradas\n					\n					\n				\n								\n				\n				\n				\n									También disponibles en taquilla del Teatro Palacio Valdés / Casa de Cultura.
URL:https://teatropalaciovaldes.es/evento/lo-inevitable/
CATEGORIES:Estreno Absoluto,Teatro
ATTACH;FMTTYPE=image/jpeg:https://teatropalaciovaldes.es/wp-content/uploads/2023/03/CartelLoInevitable1.jpg
END:VEVENT
END:VCALENDAR