BEGIN:VCALENDAR
VERSION:2.0
PRODID:-//Teatro Palacio Valdés - Avilés - ECPv6.13.2.1//NONSGML v1.0//EN
CALSCALE:GREGORIAN
METHOD:PUBLISH
X-WR-CALNAME:Teatro Palacio Valdés - Avilés
X-ORIGINAL-URL:https://teatropalaciovaldes.es
X-WR-CALDESC:Eventos para Teatro Palacio Valdés - Avilés
REFRESH-INTERVAL;VALUE=DURATION:PT1H
X-Robots-Tag:noindex
X-PUBLISHED-TTL:PT1H
BEGIN:VTIMEZONE
TZID:Europe/Madrid
BEGIN:DAYLIGHT
TZOFFSETFROM:+0100
TZOFFSETTO:+0200
TZNAME:CEST
DTSTART:20230326T010000
END:DAYLIGHT
BEGIN:STANDARD
TZOFFSETFROM:+0200
TZOFFSETTO:+0100
TZNAME:CET
DTSTART:20231029T010000
END:STANDARD
END:VTIMEZONE
BEGIN:VEVENT
DTSTART;TZID=Europe/Madrid:20230128T201500
DTEND;TZID=Europe/Madrid:20230128T201500
DTSTAMP:20260425T014940
CREATED:20221215T154753Z
LAST-MODIFIED:20230108T112615Z
UID:4616-1674936900-1674936900@teatropalaciovaldes.es
SUMMARY:LORCA POR SAURA
DESCRIPTION:NUEVA FECHA (agotadas todas las entradas para el día 28/01/23) \nDramaturgia: Natalio Grueso.  \nDirección: Carlos Saura.  \nCon India Martínez\, Alberto Amarilla y Saturna Barrio acompañados al piano por Antonio Bejarano.  \nTomando como base la trayectoria vital y literaria de Lorca\, Saura crea un espectáculo teatral englobando todas las disciplinas artísticas en las que ha trabajado: música\, fotografía\, pintura\, danza\, cine. \n 								\n				\n				\n				\n									\n					\n						\n						\n							\n									Comprar entradas\n					\n					\n				\n								\n				\n				\n				\n									También disponibles en taquilla del Teatro Palacio Valdés / Casa de Cultura.
URL:https://teatropalaciovaldes.es/evento/lorca-por-saura/
CATEGORIES:Teatro
ATTACH;FMTTYPE=image/jpeg:https://teatropalaciovaldes.es/wp-content/uploads/2022/12/LPS_IG_Post1080x1080.jpg
END:VEVENT
END:VCALENDAR