BEGIN:VCALENDAR
VERSION:2.0
PRODID:-//Teatro Palacio Valdés - Avilés - ECPv6.13.2.1//NONSGML v1.0//EN
CALSCALE:GREGORIAN
METHOD:PUBLISH
X-WR-CALNAME:Teatro Palacio Valdés - Avilés
X-ORIGINAL-URL:https://teatropalaciovaldes.es
X-WR-CALDESC:Eventos para Teatro Palacio Valdés - Avilés
REFRESH-INTERVAL;VALUE=DURATION:PT1H
X-Robots-Tag:noindex
X-PUBLISHED-TTL:PT1H
BEGIN:VTIMEZONE
TZID:Europe/Madrid
BEGIN:DAYLIGHT
TZOFFSETFROM:+0100
TZOFFSETTO:+0200
TZNAME:CEST
DTSTART:20240331T010000
END:DAYLIGHT
BEGIN:STANDARD
TZOFFSETFROM:+0200
TZOFFSETTO:+0100
TZNAME:CET
DTSTART:20241027T010000
END:STANDARD
END:VTIMEZONE
BEGIN:VEVENT
DTSTART;TZID=Europe/Madrid:20240112T201500
DTEND;TZID=Europe/Madrid:20240112T201500
DTSTAMP:20260424T220845
CREATED:20231130T161828Z
LAST-MODIFIED:20231227T195728Z
UID:5524-1705090500-1705090500@teatropalaciovaldes.es
SUMMARY:LOS AMIGOS DE ELLOS DOS
DESCRIPTION:De Matías del Federico y Daniel Veronese.Dirección: Daniel Veronese.Con Malena Alterio y David Lorente. La pareja con quienes Nicolás y Liza se reúnen todos los jueves a cenar no acaba de llegar y ese misterioso retraso abre entre ellos preocupantes e imprevistas reflexiones. 								\n				\n				\n				\n									\n					\n						\n						\n							\n									Comprar entradas
URL:https://teatropalaciovaldes.es/evento/los-amigos-de-ellos-dos/
CATEGORIES:Estreno Absoluto,Teatro
ATTACH;FMTTYPE=image/jpeg:https://teatropalaciovaldes.es/wp-content/uploads/2023/11/los-amigos-de-ellos-dos.jpg
END:VEVENT
END:VCALENDAR