BEGIN:VCALENDAR
VERSION:2.0
PRODID:-//Teatro Palacio Valdés - Avilés - ECPv6.13.2.1//NONSGML v1.0//EN
CALSCALE:GREGORIAN
METHOD:PUBLISH
X-WR-CALNAME:Teatro Palacio Valdés - Avilés
X-ORIGINAL-URL:https://teatropalaciovaldes.es
X-WR-CALDESC:Eventos para Teatro Palacio Valdés - Avilés
REFRESH-INTERVAL;VALUE=DURATION:PT1H
X-Robots-Tag:noindex
X-PUBLISHED-TTL:PT1H
BEGIN:VTIMEZONE
TZID:Europe/Madrid
BEGIN:DAYLIGHT
TZOFFSETFROM:+0100
TZOFFSETTO:+0200
TZNAME:CEST
DTSTART:20240331T010000
END:DAYLIGHT
BEGIN:STANDARD
TZOFFSETFROM:+0200
TZOFFSETTO:+0100
TZNAME:CET
DTSTART:20241027T010000
END:STANDARD
END:VTIMEZONE
BEGIN:VEVENT
DTSTART;TZID=Europe/Madrid:20241122T200000
DTEND;TZID=Europe/Madrid:20241122T200000
DTSTAMP:20260425T003055
CREATED:20240902T142650Z
LAST-MODIFIED:20240923T140128Z
UID:6269-1732305600-1732305600@teatropalaciovaldes.es
SUMMARY:LOS LUNES AL SOL
DESCRIPTION:Autoría: Fernando León de Aranoa e Ignacio del Moral.Adaptación de Ignacio del Moral y Javier Hernández Simón.Dirección: Javier Hernández Simón.Con Yune Nogueiras\, Marcial Álvarez\, José Luis Torrijo\, Fernando Cayo\, Fermi Herrero\, Fernando Huesca\, César Sánchez y Lidia Navarro. Éxito cinematográfico traspasado a la escena. Una reflexión crítica sobre las relaciones humanas y la frustración y la desesperanza al intentar encontrar trabajo en un mercado laboral competitivo\, en constante cambio.   								\n				\n					\n		\n					\n		\n				\n						\n					\n			\n						\n				\n									\n					\n						\n						\n							\n									Comprar entradas
URL:https://teatropalaciovaldes.es/evento/los-lunes-al-sol/
CATEGORIES:Teatro
ATTACH;FMTTYPE=image/jpeg:https://teatropalaciovaldes.es/wp-content/uploads/2024/09/los-lunes-al-sol.jpg
END:VEVENT
END:VCALENDAR