BEGIN:VCALENDAR
VERSION:2.0
PRODID:-//Teatro Palacio Valdés - Avilés - ECPv6.13.2.1//NONSGML v1.0//EN
CALSCALE:GREGORIAN
METHOD:PUBLISH
X-WR-CALNAME:Teatro Palacio Valdés - Avilés
X-ORIGINAL-URL:https://teatropalaciovaldes.es
X-WR-CALDESC:Eventos para Teatro Palacio Valdés - Avilés
REFRESH-INTERVAL;VALUE=DURATION:PT1H
X-Robots-Tag:noindex
X-PUBLISHED-TTL:PT1H
BEGIN:VTIMEZONE
TZID:Europe/Madrid
BEGIN:DAYLIGHT
TZOFFSETFROM:+0100
TZOFFSETTO:+0200
TZNAME:CEST
DTSTART:20240331T010000
END:DAYLIGHT
BEGIN:STANDARD
TZOFFSETFROM:+0200
TZOFFSETTO:+0100
TZNAME:CET
DTSTART:20241027T010000
END:STANDARD
END:VTIMEZONE
BEGIN:VEVENT
DTSTART;TZID=Europe/Madrid:20241219T200000
DTEND;TZID=Europe/Madrid:20241219T200000
DTSTAMP:20260424T210436
CREATED:20240902T143536Z
LAST-MODIFIED:20241216T171930Z
UID:6280-1734638400-1734638400@teatropalaciovaldes.es
SUMMARY:MAGIA. UNA COMEDIA  FANTÁSTICA
DESCRIPTION:Autor: G.K. Chesterton.Dirección y adaptación: Emilio Ruiz Barrachina.Con Carlos Chamarro\, Juanma Díez Diego\, Valentín Paredes\, Ángel Héctor Sánchez y Rebecca Arrosse. \nSacudida a la conciencia de la sociedad moderna desde los puntos de vista de sus personajes encarnados en la política\, la ciencia\, la religión y la fantasía. \n 								\n				\n					\n		\n					\n		\n				\n						\n					\n			\n						\n				\n									\n					\n						\n						\n							\n									Comprar entradas
URL:https://teatropalaciovaldes.es/evento/magia-una-comedia-fantastica/
CATEGORIES:Estreno Absoluto,Teatro
ATTACH;FMTTYPE=image/jpeg:https://teatropalaciovaldes.es/wp-content/uploads/2024/09/MAGIA.-UNA-COMEDIA.jpg
END:VEVENT
END:VCALENDAR