BEGIN:VCALENDAR
VERSION:2.0
PRODID:-//Teatro Palacio Valdés - Avilés - ECPv6.13.2.1//NONSGML v1.0//EN
CALSCALE:GREGORIAN
METHOD:PUBLISH
X-WR-CALNAME:Teatro Palacio Valdés - Avilés
X-ORIGINAL-URL:https://teatropalaciovaldes.es
X-WR-CALDESC:Eventos para Teatro Palacio Valdés - Avilés
REFRESH-INTERVAL;VALUE=DURATION:PT1H
X-Robots-Tag:noindex
X-PUBLISHED-TTL:PT1H
BEGIN:VTIMEZONE
TZID:Europe/Madrid
BEGIN:DAYLIGHT
TZOFFSETFROM:+0100
TZOFFSETTO:+0200
TZNAME:CEST
DTSTART:20240331T010000
END:DAYLIGHT
BEGIN:STANDARD
TZOFFSETFROM:+0200
TZOFFSETTO:+0100
TZNAME:CET
DTSTART:20241027T010000
END:STANDARD
END:VTIMEZONE
BEGIN:VEVENT
DTSTART;TZID=Europe/Madrid:20240419T201500
DTEND;TZID=Europe/Madrid:20240419T201500
DTSTAMP:20260425T003014
CREATED:20240305T153411Z
LAST-MODIFIED:20240309T145222Z
UID:5793-1713557700-1713557700@teatropalaciovaldes.es
SUMMARY:MAYUMANÁ ‘IMPULSO’
DESCRIPTION:Música: Boaz Berman/Dan Keean.Coreografía: Mayumaná.Dirección: Boaz Berman. Cuerpos usados como instrumentos en esta mezcla ecléctica\, musical y rítmica\, de todas las partes del mundo\, oscilando desde patrones de las percusiones tradicionales africanas hasta beats electrónicos más contemporáneos.   								\n				\n					\n		\n					\n		\n				\n						\n					\n			\n						\n				\n									\n					\n						\n						\n							\n									Comprar entradas
URL:https://teatropalaciovaldes.es/evento/mayumana-impulso/
CATEGORIES:Música
ATTACH;FMTTYPE=image/jpeg:https://teatropalaciovaldes.es/wp-content/uploads/2024/03/MAYUMANA-1.jpg
END:VEVENT
END:VCALENDAR