BEGIN:VCALENDAR
VERSION:2.0
PRODID:-//Teatro Palacio Valdés - Avilés - ECPv6.13.2.1//NONSGML v1.0//EN
CALSCALE:GREGORIAN
METHOD:PUBLISH
X-WR-CALNAME:Teatro Palacio Valdés - Avilés
X-ORIGINAL-URL:https://teatropalaciovaldes.es
X-WR-CALDESC:Eventos para Teatro Palacio Valdés - Avilés
REFRESH-INTERVAL;VALUE=DURATION:PT1H
X-Robots-Tag:noindex
X-PUBLISHED-TTL:PT1H
BEGIN:VTIMEZONE
TZID:Europe/Madrid
BEGIN:DAYLIGHT
TZOFFSETFROM:+0100
TZOFFSETTO:+0200
TZNAME:CEST
DTSTART:20240331T010000
END:DAYLIGHT
BEGIN:STANDARD
TZOFFSETFROM:+0200
TZOFFSETTO:+0100
TZNAME:CET
DTSTART:20241027T010000
END:STANDARD
END:VTIMEZONE
BEGIN:VEVENT
DTSTART;TZID=Europe/Madrid:20240426T201500
DTEND;TZID=Europe/Madrid:20240426T201500
DTSTAMP:20260425T013218
CREATED:20240305T154326Z
LAST-MODIFIED:20250410T095713Z
UID:5802-1714162500-1714162500@teatropalaciovaldes.es
SUMMARY:PANDATARIA
DESCRIPTION:Dirección y coreografía Chevi Muraday.Con Cayetana Guillén Cuervo\, Chevi Muraday\, Elio Toffana\, La Merce\, Basem Nahnouh y Chus Western. Un espectáculo de danza-teatro inspirado en la legendaria isla prisión de Pandataria en la que eran recluidas las mujeres del imperio que no se adecuaban a las normas establecidas.   								\n				\n					\n		\n					\n		\n				\n						\n					\n			\n						\n				\n									\n					\n						\n						\n							\n									Comprar entradas
URL:https://teatropalaciovaldes.es/evento/pandataria/
CATEGORIES:Música,Programación platea,Teatro
ATTACH;FMTTYPE=image/jpeg:https://teatropalaciovaldes.es/wp-content/uploads/2024/03/Pandataria.jpg
END:VEVENT
END:VCALENDAR