BEGIN:VCALENDAR
VERSION:2.0
PRODID:-//Teatro Palacio Valdés - Avilés - ECPv6.13.2.1//NONSGML v1.0//EN
CALSCALE:GREGORIAN
METHOD:PUBLISH
X-WR-CALNAME:Teatro Palacio Valdés - Avilés
X-ORIGINAL-URL:https://teatropalaciovaldes.es
X-WR-CALDESC:Eventos para Teatro Palacio Valdés - Avilés
REFRESH-INTERVAL;VALUE=DURATION:PT1H
X-Robots-Tag:noindex
X-PUBLISHED-TTL:PT1H
BEGIN:VTIMEZONE
TZID:Europe/Madrid
BEGIN:DAYLIGHT
TZOFFSETFROM:+0100
TZOFFSETTO:+0200
TZNAME:CEST
DTSTART:20230326T010000
END:DAYLIGHT
BEGIN:STANDARD
TZOFFSETFROM:+0200
TZOFFSETTO:+0100
TZNAME:CET
DTSTART:20231029T010000
END:STANDARD
END:VTIMEZONE
BEGIN:VEVENT
DTSTART;TZID=Europe/Madrid:20230311T201500
DTEND;TZID=Europe/Madrid:20230311T201500
DTSTAMP:20260425T004110
CREATED:20221215T175943Z
LAST-MODIFIED:20221219T202919Z
UID:4747-1678565700-1678565700@teatropalaciovaldes.es
SUMMARY:PROGRAMA ZARZA ‘YO TE QUERRÉ'
DESCRIPTION:TEATRO LÍRICO NACIONAL DE LA ZARZUELA PROGRAMA ZARZA ‘YO TE QUERRÉ’. Música: Francisco Alonso. Texto: Lola Blasco. Director de escena: José Luís Arellano. Directora musical: Lucía Marín. 								\n				\n				\n				\n									\n					\n						\n						\n							\n									Comprar entradas\n					\n					\n				\n								\n				\n				\n				\n									También disponibles en taquilla del Teatro Palacio Valdés / Casa de Cultura.
URL:https://teatropalaciovaldes.es/evento/teatro-lirico-nacional-de-la-zarzuela-programa-zarza-yo-te-querre/
CATEGORIES:Zarzuela
ATTACH;FMTTYPE=image/jpeg:https://teatropalaciovaldes.es/wp-content/uploads/2022/12/YO-TE-QUERRE.jpg
END:VEVENT
END:VCALENDAR