BEGIN:VCALENDAR
VERSION:2.0
PRODID:-//Teatro Palacio Valdés - Avilés - ECPv6.13.2.1//NONSGML v1.0//EN
CALSCALE:GREGORIAN
METHOD:PUBLISH
X-WR-CALNAME:Teatro Palacio Valdés - Avilés
X-ORIGINAL-URL:https://teatropalaciovaldes.es
X-WR-CALDESC:Eventos para Teatro Palacio Valdés - Avilés
REFRESH-INTERVAL;VALUE=DURATION:PT1H
X-Robots-Tag:noindex
X-PUBLISHED-TTL:PT1H
BEGIN:VTIMEZONE
TZID:Europe/Madrid
BEGIN:DAYLIGHT
TZOFFSETFROM:+0100
TZOFFSETTO:+0200
TZNAME:CEST
DTSTART:20260329T010000
END:DAYLIGHT
BEGIN:STANDARD
TZOFFSETFROM:+0200
TZOFFSETTO:+0100
TZNAME:CET
DTSTART:20261025T010000
END:STANDARD
END:VTIMEZONE
BEGIN:VEVENT
DTSTART;TZID=Europe/Madrid:20260116T200000
DTEND;TZID=Europe/Madrid:20260116T200000
DTSTAMP:20260424T211403
CREATED:20251030T093908Z
LAST-MODIFIED:20251030T093908Z
UID:7034-1768593600-1768593600@teatropalaciovaldes.es
SUMMARY:UN MONSTRUO VIENE A VERME
DESCRIPTION:La Joven CompañíaBasada en la novela de Patrick NessInspirada en la idea original de Siobhan DowdAdaptación de Sally Sookson y Adam PeckTraducción de David R. PeraltoDirección: José Luis ArellanoCon Elisa Hipólito\, Eduardo Aguirre\, Cristina Bertol y otros Un niño de 13 años debe arrostrar la enfermedad terminal de su madre y en ese trance aparece alguien misterioso que resulta decisivo para ayudarle a encarar su nueva realidad. 								\n				\n					\n		\n					\n		\n				\n						\n					\n			\n							\n		\n					\n		\n				\n						\n					\n			\n						\n				\n									\n					\n						\n						\n							\n									Comprar entradas
URL:https://teatropalaciovaldes.es/evento/un-monstruo-viene-a-verme/
CATEGORIES:Programación platea,Teatro
ATTACH;FMTTYPE=image/jpeg:https://teatropalaciovaldes.es/wp-content/uploads/2025/10/UN-MONSTRUO-VIENE-A-VERME.jpg
END:VEVENT
END:VCALENDAR