BEGIN:VCALENDAR
VERSION:2.0
PRODID:-//Teatro Palacio Valdés - Avilés - ECPv6.13.2.1//NONSGML v1.0//EN
CALSCALE:GREGORIAN
METHOD:PUBLISH
X-WR-CALNAME:Teatro Palacio Valdés - Avilés
X-ORIGINAL-URL:https://teatropalaciovaldes.es
X-WR-CALDESC:Eventos para Teatro Palacio Valdés - Avilés
REFRESH-INTERVAL;VALUE=DURATION:PT1H
X-Robots-Tag:noindex
X-PUBLISHED-TTL:PT1H
BEGIN:VTIMEZONE
TZID:Europe/Madrid
BEGIN:DAYLIGHT
TZOFFSETFROM:+0100
TZOFFSETTO:+0200
TZNAME:CEST
DTSTART:20250330T010000
END:DAYLIGHT
BEGIN:STANDARD
TZOFFSETFROM:+0200
TZOFFSETTO:+0100
TZNAME:CET
DTSTART:20251026T010000
END:STANDARD
END:VTIMEZONE
BEGIN:VEVENT
DTSTART;TZID=Europe/Madrid:20250131T200000
DTEND;TZID=Europe/Madrid:20250131T200000
DTSTAMP:20260424T220053
CREATED:20241119T120115Z
LAST-MODIFIED:20250128T181025Z
UID:6431-1738353600-1738353600@teatropalaciovaldes.es
SUMMARY:UN TRANVÍA LLAMADO DESEO
DESCRIPTION:Autoría: Tennessee Williams.Versión y dirección: David Serrano.Con Nathalie Poza\, Pablo Derqui\, María Vázquez\, Jorge Usón\, Carmen Barrantes\, Rómulo Assereto\, Mario Alonso y Carlos Carracedo. Obra cumbre de la dramaturgia del siglo XX\, clásico vigente más de setenta años después de su estreno\, se presenta ahora en una versión alejada de su conocida adaptación cinematográfica.   								\n				\n					\n		\n					\n		\n				\n						\n					\n			\n						\n				\n									\n					\n						\n						\n							\n									Comprar entradas
URL:https://teatropalaciovaldes.es/evento/un-tranvia-llamado-deseo-2/
CATEGORIES:Estreno Absoluto,Teatro
ATTACH;FMTTYPE=image/jpeg:https://teatropalaciovaldes.es/wp-content/uploads/2024/11/un-tranvia-llamado-deseo.jpg
END:VEVENT
END:VCALENDAR