BEGIN:VCALENDAR
VERSION:2.0
PRODID:-//Teatro Palacio Valdés - Avilés - ECPv6.13.2.1//NONSGML v1.0//EN
CALSCALE:GREGORIAN
METHOD:PUBLISH
X-WR-CALNAME:Teatro Palacio Valdés - Avilés
X-ORIGINAL-URL:https://teatropalaciovaldes.es
X-WR-CALDESC:Eventos para Teatro Palacio Valdés - Avilés
REFRESH-INTERVAL;VALUE=DURATION:PT1H
X-Robots-Tag:noindex
X-PUBLISHED-TTL:PT1H
BEGIN:VTIMEZONE
TZID:Europe/Madrid
BEGIN:DAYLIGHT
TZOFFSETFROM:+0100
TZOFFSETTO:+0200
TZNAME:CEST
DTSTART:20230326T010000
END:DAYLIGHT
BEGIN:STANDARD
TZOFFSETFROM:+0200
TZOFFSETTO:+0100
TZNAME:CET
DTSTART:20231029T010000
END:STANDARD
END:VTIMEZONE
BEGIN:VEVENT
DTSTART;TZID=Europe/Madrid:20230503T201500
DTEND;TZID=Europe/Madrid:20230503T201500
DTSTAMP:20260424T220836
CREATED:20230319T083610Z
LAST-MODIFIED:20230319T083706Z
UID:5055-1683144900-1683144900@teatropalaciovaldes.es
SUMMARY:¡VUELVE\, RAFFAELLA!
DESCRIPTION:El Jaleo Producciones.Autora y directora: Laura Iglesia.Con Luis Alija\, Félix Corcuera\, Carlos Dávila\, Pedro Durán\, Arantxa F. Ramos\, Laura Iglesia y Nerea Vázquez. La invocación de Raffaella Carrá en un fin de año provoca la aparición de un espíritu inesperado en una noche loca de reencuentros\, canciones\, bailes\, sorpresas\, aventuras\, pasiones y sucesos paranormales. 								\n				\n				\n				\n									\n					\n						\n						\n							\n									Comprar entradas\n					\n					\n				\n								\n				\n				\n				\n									También disponibles en taquilla del Teatro Palacio Valdés / Casa de Cultura.
URL:https://teatropalaciovaldes.es/evento/vuelve-raffaella/
CATEGORIES:Teatro
ATTACH;FMTTYPE=image/jpeg:https://teatropalaciovaldes.es/wp-content/uploads/2023/03/Vuelve-Raffaella.jpeg
END:VEVENT
END:VCALENDAR