BEGIN:VCALENDAR
VERSION:2.0
PRODID:-//Teatro Palacio Valdés - Avilés - ECPv6.13.2.1//NONSGML v1.0//EN
CALSCALE:GREGORIAN
METHOD:PUBLISH
X-WR-CALNAME:Teatro Palacio Valdés - Avilés
X-ORIGINAL-URL:https://teatropalaciovaldes.es
X-WR-CALDESC:Eventos para Teatro Palacio Valdés - Avilés
REFRESH-INTERVAL;VALUE=DURATION:PT1H
X-Robots-Tag:noindex
X-PUBLISHED-TTL:PT1H
BEGIN:VTIMEZONE
TZID:Europe/Madrid
BEGIN:DAYLIGHT
TZOFFSETFROM:+0100
TZOFFSETTO:+0200
TZNAME:CEST
DTSTART:20210328T010000
END:DAYLIGHT
BEGIN:STANDARD
TZOFFSETFROM:+0200
TZOFFSETTO:+0100
TZNAME:CET
DTSTART:20211031T010000
END:STANDARD
END:VTIMEZONE
BEGIN:VEVENT
DTSTART;TZID=Europe/Madrid:20211221T200000
DTEND;TZID=Europe/Madrid:20211221T213000
DTSTAMP:20260426T054841
CREATED:20211129T225920Z
LAST-MODIFIED:20211206T121857Z
UID:4007-1640116800-1640122200@teatropalaciovaldes.es
SUMMARY:Wom@rts Sinfónico Navidad
DESCRIPTION:Pamela Tan-Nicholson y la Baltic Neopolis Ladies Orchestra ponen en el Teatro Palacio Valdés el colofón a los cuatro años del Proyecto Europeo Wom@rts \nUn concierto sinfónico de navidad  único\, que une a mujeres de diferentes culturas\, coordinado desde Avilés\, con la batuta estelar de la pianista y directora londinense y las raíces de las grandes instrumentistas de la prestigiosa orquesta de cuerda de Polonia\n Las entradas se podrán adquirir en los canales habituales\, con precios de 10\, 12 y 15 euros
URL:https://teatropalaciovaldes.es/evento/womrts-sinfonico-2/
CATEGORIES:Estreno Absoluto,Música
ATTACH;FMTTYPE=image/jpeg:https://teatropalaciovaldes.es/wp-content/uploads/2021/11/Womarts-Navidad-concierto.jpeg
END:VEVENT
END:VCALENDAR