BEGIN:VCALENDAR
VERSION:2.0
PRODID:-//Teatro Palacio Valdés - Avilés - ECPv6.13.2.1//NONSGML v1.0//EN
CALSCALE:GREGORIAN
METHOD:PUBLISH
X-WR-CALNAME:Teatro Palacio Valdés - Avilés
X-ORIGINAL-URL:https://teatropalaciovaldes.es
X-WR-CALDESC:Eventos para Teatro Palacio Valdés - Avilés
REFRESH-INTERVAL;VALUE=DURATION:PT1H
X-Robots-Tag:noindex
X-PUBLISHED-TTL:PT1H
BEGIN:VTIMEZONE
TZID:Europe/Madrid
BEGIN:DAYLIGHT
TZOFFSETFROM:+0100
TZOFFSETTO:+0200
TZNAME:CEST
DTSTART:20230326T010000
END:DAYLIGHT
BEGIN:STANDARD
TZOFFSETFROM:+0200
TZOFFSETTO:+0100
TZNAME:CET
DTSTART:20231029T010000
END:STANDARD
END:VTIMEZONE
BEGIN:VEVENT
DTSTART;TZID=Europe/Madrid:20231125T170000
DTEND;TZID=Europe/Madrid:20231125T170000
DTSTAMP:20260426T044516
CREATED:20230910T085519Z
LAST-MODIFIED:20230910T100739Z
UID:5299-1700931600-1700931600@teatropalaciovaldes.es
SUMMARY:PETER EL MUSICAL by Theatre Properties
DESCRIPTION:Ballet en cinco cuadros sobre poemas de Federico García LorcaIdea\, dirección y coreografía: Antonio NajarroComposición musical: José Luis MontónDramaturgia: Alberto ConejeroCuerpo de baile y músicos de la Compañía Antonio Najarro 								\n				\n					\n		\n					\n		\n				\n						\n					\n			\n						\n				\n							\n			\n		\n						\n				\n					\n		\n					\n		\n				\n						\n					\n			\n						\n				\n									\n					\n						\n						\n							\n									Comprar entradas
URL:https://teatropalaciovaldes.es/evento/peter-el-musical-by-theatre-properties-2/
CATEGORIES:En familia,Musical
ATTACH;FMTTYPE=image/jpeg:https://teatropalaciovaldes.es/wp-content/uploads/2023/09/1000x1000.jpg
END:VEVENT
BEGIN:VEVENT
DTSTART;TZID=Europe/Madrid:20231125T203000
DTEND;TZID=Europe/Madrid:20231125T203000
DTSTAMP:20260426T044516
CREATED:20230910T085628Z
LAST-MODIFIED:20230910T100743Z
UID:5301-1700944200-1700944200@teatropalaciovaldes.es
SUMMARY:PETER EL MUSICAL by Theatre Properties
DESCRIPTION:Ballet en cinco cuadros sobre poemas de Federico García LorcaIdea\, dirección y coreografía: Antonio NajarroComposición musical: José Luis MontónDramaturgia: Alberto ConejeroCuerpo de baile y músicos de la Compañía Antonio Najarro 								\n				\n					\n		\n					\n		\n				\n						\n					\n			\n						\n				\n							\n			\n		\n						\n				\n					\n		\n					\n		\n				\n						\n					\n			\n						\n				\n									\n					\n						\n						\n							\n									Comprar entradas
URL:https://teatropalaciovaldes.es/evento/peter-el-musical-by-theatre-properties-3/
CATEGORIES:En familia,Musical
ATTACH;FMTTYPE=image/jpeg:https://teatropalaciovaldes.es/wp-content/uploads/2023/09/1000x1000.jpg
END:VEVENT
END:VCALENDAR