BEGIN:VCALENDAR
VERSION:2.0
PRODID:-//Teatro Palacio Valdés - Avilés - ECPv6.13.2.1//NONSGML v1.0//EN
CALSCALE:GREGORIAN
METHOD:PUBLISH
X-WR-CALNAME:Teatro Palacio Valdés - Avilés
X-ORIGINAL-URL:https://teatropalaciovaldes.es
X-WR-CALDESC:Eventos para Teatro Palacio Valdés - Avilés
REFRESH-INTERVAL;VALUE=DURATION:PT1H
X-Robots-Tag:noindex
X-PUBLISHED-TTL:PT1H
BEGIN:VTIMEZONE
TZID:Europe/Madrid
BEGIN:DAYLIGHT
TZOFFSETFROM:+0100
TZOFFSETTO:+0200
TZNAME:CEST
DTSTART:20240331T010000
END:DAYLIGHT
BEGIN:STANDARD
TZOFFSETFROM:+0200
TZOFFSETTO:+0100
TZNAME:CET
DTSTART:20241027T010000
END:STANDARD
END:VTIMEZONE
BEGIN:VEVENT
DTSTART;TZID=Europe/Madrid:20241221T120000
DTEND;TZID=Europe/Madrid:20241223T200000
DTSTAMP:20260425T150844
CREATED:20241216T170632Z
LAST-MODIFIED:20241216T171948Z
UID:6511-1734782400-1734984000@teatropalaciovaldes.es
SUMMARY:VISITAS TEATRALIZADAS
DESCRIPTION:Ballet en cinco cuadros sobre poemas de Federico García LorcaIdea\, dirección y coreografía: Antonio NajarroComposición musical: José Luis MontónDramaturgia: Alberto ConejeroCuerpo de baile y músicos de la Compañía Antonio Najarro 								\n				\n					\n		\n					\n		\n				\n						\n					\n			\n						\n				\n							\n			\n		\n						\n				\n					\n		\n					\n		\n				\n						\n					\n			\n						\n				\n									\n					\n						\n						\n							\n									Comprar entradas
URL:https://teatropalaciovaldes.es/evento/visitas-teatralizadas-2/
CATEGORIES:visitas teatralizadas
ATTACH;FMTTYPE=image/jpeg:https://teatropalaciovaldes.es/wp-content/uploads/2024/12/visitas-teatralizadas.jpg
END:VEVENT
END:VCALENDAR