BEGIN:VCALENDAR
VERSION:2.0
PRODID:-//Teatro Palacio Valdés - Avilés - ECPv6.13.2.1//NONSGML v1.0//EN
CALSCALE:GREGORIAN
METHOD:PUBLISH
X-ORIGINAL-URL:https://teatropalaciovaldes.es
X-WR-CALDESC:Eventos para Teatro Palacio Valdés - Avilés
REFRESH-INTERVAL;VALUE=DURATION:PT1H
X-Robots-Tag:noindex
X-PUBLISHED-TTL:PT1H
BEGIN:VTIMEZONE
TZID:Europe/Madrid
BEGIN:DAYLIGHT
TZOFFSETFROM:+0100
TZOFFSETTO:+0200
TZNAME:CEST
DTSTART:20250330T010000
END:DAYLIGHT
BEGIN:STANDARD
TZOFFSETFROM:+0200
TZOFFSETTO:+0100
TZNAME:CET
DTSTART:20251026T010000
END:STANDARD
END:VTIMEZONE
BEGIN:VEVENT
DTSTART;TZID=Europe/Madrid:20250201T200000
DTEND;TZID=Europe/Madrid:20250201T200000
DTSTAMP:20260425T161702
CREATED:20241119T115902Z
LAST-MODIFIED:20250128T181053Z
UID:6426-1738440000-1738440000@teatropalaciovaldes.es
SUMMARY:UN TRANVÍA LLAMADO DESEO
DESCRIPTION:Adaptación:Eduardo Galán.Dirección: Carla Nyman.Con Soledad Mallol y Pepa Pedroche. Versión teatral de El lazarillo de Tormes en la que dos actrices interpretan los diferentes personajes de la novela aportando la visión crítica de la obra desde la perspectiva femenina.   								\n				\n					\n		\n					\n		\n				\n						\n					\n			\n						\n				\n									\n					\n						\n						\n							\n									Comprar entradas
URL:https://teatropalaciovaldes.es/evento/un-tranvia-llamado-deseo/
CATEGORIES:Estreno Absoluto,Teatro
ATTACH;FMTTYPE=image/jpeg:https://teatropalaciovaldes.es/wp-content/uploads/2024/11/un-tranvia-llamado-deseo.jpg
END:VEVENT
BEGIN:VEVENT
DTSTART;TZID=Europe/Madrid:20250207T200000
DTEND;TZID=Europe/Madrid:20250207T200000
DTSTAMP:20260425T161702
CREATED:20241120T185026Z
LAST-MODIFIED:20250202T121215Z
UID:6477-1738958400-1738958400@teatropalaciovaldes.es
SUMMARY:ROMEO Y JULIETA. EL MUSICAL
DESCRIPTION:Adaptación:Eduardo Galán.Dirección: Carla Nyman.Con Soledad Mallol y Pepa Pedroche. Versión teatral de El lazarillo de Tormes en la que dos actrices interpretan los diferentes personajes de la novela aportando la visión crítica de la obra desde la perspectiva femenina.   								\n				\n					\n		\n					\n		\n				\n						\n					\n			\n						\n				\n									\n					\n						\n						\n							\n									Comprar entradas
URL:https://teatropalaciovaldes.es/evento/romeo-y-julieta-el-musical/
CATEGORIES:Estreno Absoluto,Música
ATTACH;FMTTYPE=image/jpeg:https://teatropalaciovaldes.es/wp-content/uploads/2024/11/romeo-y-julieta.jpg
END:VEVENT
BEGIN:VEVENT
DTSTART;TZID=Europe/Madrid:20250208T170000
DTEND;TZID=Europe/Madrid:20250208T170000
DTSTAMP:20260425T161702
CREATED:20241120T182538Z
LAST-MODIFIED:20250202T121232Z
UID:6484-1739034000-1739034000@teatropalaciovaldes.es
SUMMARY:ROMEO Y JULIETA. EL MUSICAL
DESCRIPTION:Adaptación:Eduardo Galán.Dirección: Carla Nyman.Con Soledad Mallol y Pepa Pedroche. Versión teatral de El lazarillo de Tormes en la que dos actrices interpretan los diferentes personajes de la novela aportando la visión crítica de la obra desde la perspectiva femenina.   								\n				\n					\n		\n					\n		\n				\n						\n					\n			\n						\n				\n									\n					\n						\n						\n							\n									Comprar entradas
URL:https://teatropalaciovaldes.es/evento/romeo-y-julieta-el-musical-2/
CATEGORIES:Estreno Absoluto,Música
ATTACH;FMTTYPE=image/jpeg:https://teatropalaciovaldes.es/wp-content/uploads/2024/11/romeo-y-julieta.jpg
END:VEVENT
BEGIN:VEVENT
DTSTART;TZID=Europe/Madrid:20250208T200000
DTEND;TZID=Europe/Madrid:20250208T200000
DTSTAMP:20260425T161702
CREATED:20241120T182945Z
LAST-MODIFIED:20250202T121247Z
UID:6489-1739044800-1739044800@teatropalaciovaldes.es
SUMMARY:ROMEO Y JULIETA. EL MUSICAL
DESCRIPTION:Adaptación:Eduardo Galán.Dirección: Carla Nyman.Con Soledad Mallol y Pepa Pedroche. Versión teatral de El lazarillo de Tormes en la que dos actrices interpretan los diferentes personajes de la novela aportando la visión crítica de la obra desde la perspectiva femenina.   								\n				\n					\n		\n					\n		\n				\n						\n					\n			\n						\n				\n									\n					\n						\n						\n							\n									Comprar entradas
URL:https://teatropalaciovaldes.es/evento/romeo-y-julieta-el-musical-3/
CATEGORIES:Estreno Absoluto,Música
ATTACH;FMTTYPE=image/jpeg:https://teatropalaciovaldes.es/wp-content/uploads/2024/11/romeo-y-julieta.jpg
END:VEVENT
BEGIN:VEVENT
DTSTART;TZID=Europe/Madrid:20250221T200000
DTEND;TZID=Europe/Madrid:20250221T200000
DTSTAMP:20260425T161702
CREATED:20241119T133908Z
LAST-MODIFIED:20250202T121346Z
UID:6445-1740168000-1740168000@teatropalaciovaldes.es
SUMMARY:LA MÚSICA
DESCRIPTION:Adaptación:Eduardo Galán.Dirección: Carla Nyman.Con Soledad Mallol y Pepa Pedroche. Versión teatral de El lazarillo de Tormes en la que dos actrices interpretan los diferentes personajes de la novela aportando la visión crítica de la obra desde la perspectiva femenina.   								\n				\n					\n		\n					\n		\n				\n						\n					\n			\n						\n				\n									\n					\n						\n						\n							\n									Comprar entradas
URL:https://teatropalaciovaldes.es/evento/la-musica/
CATEGORIES:Estreno Absoluto,Teatro
ATTACH;FMTTYPE=image/jpeg:https://teatropalaciovaldes.es/wp-content/uploads/2024/11/LaMusica_Aviles_1920.jpg
END:VEVENT
BEGIN:VEVENT
DTSTART;TZID=Europe/Madrid:20250222T200000
DTEND;TZID=Europe/Madrid:20250222T200000
DTSTAMP:20260425T161702
CREATED:20241227T095722Z
LAST-MODIFIED:20250202T121401Z
UID:6530-1740254400-1740254400@teatropalaciovaldes.es
SUMMARY:LA MÚSICA
DESCRIPTION:Adaptación:Eduardo Galán.Dirección: Carla Nyman.Con Soledad Mallol y Pepa Pedroche. Versión teatral de El lazarillo de Tormes en la que dos actrices interpretan los diferentes personajes de la novela aportando la visión crítica de la obra desde la perspectiva femenina.   								\n				\n					\n		\n					\n		\n				\n						\n					\n			\n						\n				\n									\n					\n						\n						\n							\n									Comprar entradas
URL:https://teatropalaciovaldes.es/evento/la-musica-2/
CATEGORIES:Estreno Absoluto,Teatro
ATTACH;FMTTYPE=image/jpeg:https://teatropalaciovaldes.es/wp-content/uploads/2024/11/LaMusica_Aviles_1920.jpg
END:VEVENT
BEGIN:VEVENT
DTSTART;TZID=Europe/Madrid:20250228T200000
DTEND;TZID=Europe/Madrid:20250228T200000
DTSTAMP:20260425T161702
CREATED:20241119T134307Z
LAST-MODIFIED:20250202T121420Z
UID:6450-1740772800-1740772800@teatropalaciovaldes.es
SUMMARY:EL CAMINO A LA MECA
DESCRIPTION:Adaptación:Eduardo Galán.Dirección: Carla Nyman.Con Soledad Mallol y Pepa Pedroche. Versión teatral de El lazarillo de Tormes en la que dos actrices interpretan los diferentes personajes de la novela aportando la visión crítica de la obra desde la perspectiva femenina.   								\n				\n					\n		\n					\n		\n				\n						\n					\n			\n						\n				\n									\n					\n						\n						\n							\n									Comprar entradas
URL:https://teatropalaciovaldes.es/evento/el-camino-a-la-meca/
CATEGORIES:Estreno Absoluto,Teatro
ATTACH;FMTTYPE=image/jpeg:https://teatropalaciovaldes.es/wp-content/uploads/2024/11/camino-a-la-meca.jpg
END:VEVENT
END:VCALENDAR