BEGIN:VCALENDAR
VERSION:2.0
PRODID:-//Teatro Palacio Valdés - Avilés - ECPv6.13.2.1//NONSGML v1.0//EN
CALSCALE:GREGORIAN
METHOD:PUBLISH
X-ORIGINAL-URL:https://teatropalaciovaldes.es
X-WR-CALDESC:Eventos para Teatro Palacio Valdés - Avilés
REFRESH-INTERVAL;VALUE=DURATION:PT1H
X-Robots-Tag:noindex
X-PUBLISHED-TTL:PT1H
BEGIN:VTIMEZONE
TZID:Europe/Madrid
BEGIN:DAYLIGHT
TZOFFSETFROM:+0100
TZOFFSETTO:+0200
TZNAME:CEST
DTSTART:20240331T010000
END:DAYLIGHT
BEGIN:STANDARD
TZOFFSETFROM:+0200
TZOFFSETTO:+0100
TZNAME:CET
DTSTART:20241027T010000
END:STANDARD
END:VTIMEZONE
BEGIN:VEVENT
DTSTART;TZID=Europe/Madrid:20241110T170000
DTEND;TZID=Europe/Madrid:20241110T170000
DTSTAMP:20260425T225845
CREATED:20241002T124337Z
LAST-MODIFIED:20241002T124619Z
UID:6303-1731258000-1731258000@teatropalaciovaldes.es
SUMMARY:LAS VULNERABILIDADES DE LAS PALABRAS
DESCRIPTION:“LAS VULNERABILIDADES DE LAS PALABRAS”Encuentro con Elvira Sastre en conversación con Tània Sarrias. Charla-recital conducida por la actriz Tània Sarrias (presentadora del programa Culturas2 de La2)\, con la novelista y poetisa Elvira Sastre\, autora de éxitos como “Días sin ti” (2019)\, “Adiós al frío” (2020)\, “Lo que la poesía aun no ha escrito\, poesía reunida 2013-2020” (2023) y o “Las Vulnerabilidades“ (2024)\, entre otros. En la actualidad\, la escritora llena teatros y salas de conciertos con sus recitales poéticos y comparte con los lectores su poesía\, vivencias y su mundo personal a través de las redes. Actividad gratuita. Inscripción en: FFFelvirasastre@gmail.com o retirando entradas en taquilla de la Casa de Cultura de Avilés.
URL:https://teatropalaciovaldes.es/evento/las-vulnerabilidades-de-las-palabras/
CATEGORIES:Lectura dramatizada,Poesía
ATTACH;FMTTYPE=image/jpeg:https://teatropalaciovaldes.es/wp-content/uploads/2024/10/elvira-sanstre.jpg
END:VEVENT
END:VCALENDAR