BEGIN:VCALENDAR
VERSION:2.0
PRODID:-//Teatro Palacio Valdés - Avilés - ECPv6.13.2.1//NONSGML v1.0//EN
CALSCALE:GREGORIAN
METHOD:PUBLISH
X-WR-CALNAME:Teatro Palacio Valdés - Avilés
X-ORIGINAL-URL:https://teatropalaciovaldes.es
X-WR-CALDESC:Eventos para Teatro Palacio Valdés - Avilés
REFRESH-INTERVAL;VALUE=DURATION:PT1H
X-Robots-Tag:noindex
X-PUBLISHED-TTL:PT1H
BEGIN:VTIMEZONE
TZID:Europe/Madrid
BEGIN:DAYLIGHT
TZOFFSETFROM:+0100
TZOFFSETTO:+0200
TZNAME:CEST
DTSTART:20240331T010000
END:DAYLIGHT
BEGIN:STANDARD
TZOFFSETFROM:+0200
TZOFFSETTO:+0100
TZNAME:CET
DTSTART:20241027T010000
END:STANDARD
END:VTIMEZONE
BEGIN:VEVENT
DTSTART;TZID=Europe/Madrid:20240308T201500
DTEND;TZID=Europe/Madrid:20240308T201500
DTSTAMP:20260426T044952
CREATED:20231130T163210Z
LAST-MODIFIED:20240116T153303Z
UID:5542-1709928900-1709928900@teatropalaciovaldes.es
SUMMARY:LA REINA DE LA BELLEZA DE LEENANE
DESCRIPTION:Sótano B (Asturias)\,Hilo Producciones (Cantabria)\,La Estampa Teatro (Extremadura)Autoría: Laila RipollDirección: Sandro CorderoCon Laura Orduña\, Cristina Lorenzo\, Bea Canteli y Concha Rodríguez Personajes\, diálogo\, ritmo\, lenguaje\, conflictos\, atmósfera y giros se unen para formar un todo a caballo entre el esperpento\, el costumbrismo\, el realismo mágico y la novela de terror. 								\n				\n					\n		\n					\n		\n				\n						\n					\n			\n						\n				\n							\n			\n		\n						\n				\n					\n		\n					\n		\n				\n						\n					\n			\n						\n				\n									\n					\n						\n						\n							\n									Comprar entradas
URL:https://teatropalaciovaldes.es/evento/la-reina-de-la-belleza-de-leenane/
CATEGORIES:Estreno Absoluto,Teatro
ATTACH;FMTTYPE=image/jpeg:https://teatropalaciovaldes.es/wp-content/uploads/2023/11/LRDLB_RRSS_1200x630.jpg
END:VEVENT
BEGIN:VEVENT
DTSTART;TZID=Europe/Madrid:20240309T201500
DTEND;TZID=Europe/Madrid:20240309T201500
DTSTAMP:20260426T044952
CREATED:20231219T120621Z
LAST-MODIFIED:20240116T153317Z
UID:5592-1710015300-1710015300@teatropalaciovaldes.es
SUMMARY:LA REINA DE LA BELLEZA DE LEENANE
DESCRIPTION:Sótano B (Asturias)\,Hilo Producciones (Cantabria)\,La Estampa Teatro (Extremadura)Autoría: Laila RipollDirección: Sandro CorderoCon Laura Orduña\, Cristina Lorenzo\, Bea Canteli y Concha Rodríguez Personajes\, diálogo\, ritmo\, lenguaje\, conflictos\, atmósfera y giros se unen para formar un todo a caballo entre el esperpento\, el costumbrismo\, el realismo mágico y la novela de terror. 								\n				\n					\n		\n					\n		\n				\n						\n					\n			\n						\n				\n							\n			\n		\n						\n				\n					\n		\n					\n		\n				\n						\n					\n			\n						\n				\n									\n					\n						\n						\n							\n									Comprar entradas
URL:https://teatropalaciovaldes.es/evento/la-reina-de-la-belleza-de-leenane-2/
CATEGORIES:Estreno Absoluto,Teatro
ATTACH;FMTTYPE=image/jpeg:https://teatropalaciovaldes.es/wp-content/uploads/2023/11/LRDLB_RRSS_1200x630.jpg
END:VEVENT
BEGIN:VEVENT
DTSTART;TZID=Europe/Madrid:20240314T201500
DTEND;TZID=Europe/Madrid:20240314T201500
DTSTAMP:20260426T044952
CREATED:20231130T164310Z
LAST-MODIFIED:20231204T122854Z
UID:5560-1710447300-1710447300@teatropalaciovaldes.es
SUMMARY:LA DESGRACIA
DESCRIPTION:Sótano B (Asturias)\,Hilo Producciones (Cantabria)\,La Estampa Teatro (Extremadura)Autoría: Laila RipollDirección: Sandro CorderoCon Laura Orduña\, Cristina Lorenzo\, Bea Canteli y Concha Rodríguez Personajes\, diálogo\, ritmo\, lenguaje\, conflictos\, atmósfera y giros se unen para formar un todo a caballo entre el esperpento\, el costumbrismo\, el realismo mágico y la novela de terror. 								\n				\n					\n		\n					\n		\n				\n						\n					\n			\n						\n				\n							\n			\n		\n						\n				\n					\n		\n					\n		\n				\n						\n					\n			\n						\n				\n									\n					\n						\n						\n							\n									Comprar entradas
URL:https://teatropalaciovaldes.es/evento/la-desgracia/
CATEGORIES:Teatro
ATTACH;FMTTYPE=image/jpeg:https://teatropalaciovaldes.es/wp-content/uploads/2023/11/la-desgracia.jpg
END:VEVENT
BEGIN:VEVENT
DTSTART;TZID=Europe/Madrid:20240316T201500
DTEND;TZID=Europe/Madrid:20240316T201500
DTSTAMP:20260426T044952
CREATED:20231130T163535Z
LAST-MODIFIED:20240308T102856Z
UID:5548-1710620100-1710620100@teatropalaciovaldes.es
SUMMARY:SALOMÉ
DESCRIPTION:Sótano B (Asturias)\,Hilo Producciones (Cantabria)\,La Estampa Teatro (Extremadura)Autoría: Laila RipollDirección: Sandro CorderoCon Laura Orduña\, Cristina Lorenzo\, Bea Canteli y Concha Rodríguez Personajes\, diálogo\, ritmo\, lenguaje\, conflictos\, atmósfera y giros se unen para formar un todo a caballo entre el esperpento\, el costumbrismo\, el realismo mágico y la novela de terror. 								\n				\n					\n		\n					\n		\n				\n						\n					\n			\n						\n				\n							\n			\n		\n						\n				\n					\n		\n					\n		\n				\n						\n					\n			\n						\n				\n									\n					\n						\n						\n							\n									Comprar entradas
URL:https://teatropalaciovaldes.es/evento/salome/
CATEGORIES:Teatro
ATTACH;FMTTYPE=image/jpeg:https://teatropalaciovaldes.es/wp-content/uploads/2023/11/Salome.jpg
END:VEVENT
END:VCALENDAR